BEGIN:VCALENDAR
VERSION:2.0
PRODID:-//Waukesha County Fair - ECPv6.15.20//NONSGML v1.0//EN
CALSCALE:GREGORIAN
METHOD:PUBLISH
X-WR-CALNAME:Waukesha County Fair
X-ORIGINAL-URL:https://www.waukeshacountyfair.com
X-WR-CALDESC:Events for Waukesha County Fair
REFRESH-INTERVAL;VALUE=DURATION:PT1H
X-Robots-Tag:noindex
X-PUBLISHED-TTL:PT1H
BEGIN:VTIMEZONE
TZID:America/Chicago
BEGIN:DAYLIGHT
TZOFFSETFROM:-0600
TZOFFSETTO:-0500
TZNAME:CDT
DTSTART:20230312T080000
END:DAYLIGHT
BEGIN:STANDARD
TZOFFSETFROM:-0500
TZOFFSETTO:-0600
TZNAME:CST
DTSTART:20231105T070000
END:STANDARD
BEGIN:DAYLIGHT
TZOFFSETFROM:-0600
TZOFFSETTO:-0500
TZNAME:CDT
DTSTART:20240310T080000
END:DAYLIGHT
BEGIN:STANDARD
TZOFFSETFROM:-0500
TZOFFSETTO:-0600
TZNAME:CST
DTSTART:20241103T070000
END:STANDARD
BEGIN:DAYLIGHT
TZOFFSETFROM:-0600
TZOFFSETTO:-0500
TZNAME:CDT
DTSTART:20250309T080000
END:DAYLIGHT
BEGIN:STANDARD
TZOFFSETFROM:-0500
TZOFFSETTO:-0600
TZNAME:CST
DTSTART:20251102T070000
END:STANDARD
BEGIN:DAYLIGHT
TZOFFSETFROM:-0600
TZOFFSETTO:-0500
TZNAME:CDT
DTSTART:20260308T080000
END:DAYLIGHT
BEGIN:STANDARD
TZOFFSETFROM:-0500
TZOFFSETTO:-0600
TZNAME:CST
DTSTART:20261101T070000
END:STANDARD
BEGIN:DAYLIGHT
TZOFFSETFROM:-0600
TZOFFSETTO:-0500
TZNAME:CDT
DTSTART:20270314T080000
END:DAYLIGHT
BEGIN:STANDARD
TZOFFSETFROM:-0500
TZOFFSETTO:-0600
TZNAME:CST
DTSTART:20271107T070000
END:STANDARD
END:VTIMEZONE
BEGIN:VEVENT
DTSTART;TZID=America/Chicago:20240608T080000
DTEND;TZID=America/Chicago:20240608T153000
DTSTAMP:20260419T112713
CREATED:20240515T011246Z
LAST-MODIFIED:20240515T011246Z
UID:32562-1717833600-1717860600@www.waukeshacountyfair.com
SUMMARY:Sand County Showmanship Showdown
DESCRIPTION:See Facebook event: 2024 Sand County Showmanship Showdown & Clinic\nAdams County Fairgrounds\, Friendship\, WI\nFor Info – Email: sandcountyshow@gmail.com\nBeef – Josh Oleson – 608-547-0430\nSheep – Tori Babcock – 608-572-1402 \nSheep Clinic – 8-9:30am\nBeef Clinic – 9:30 – 11am \nSHOWMANSHIP\nSheep @ 11:30am\nBeef @ 2pm
URL:https://www.waukeshacountyfair.com/event/sand-county-showmanship-showdown/
LOCATION:Adams County Fairgrounds\, Friendship\, WI\, United States
CATEGORIES:beef,Clinic,Sheep Meeting
END:VEVENT
BEGIN:VEVENT
DTSTART;TZID=America/Chicago:20240613T180000
DTEND;TZID=America/Chicago:20240613T193000
DTSTAMP:20260419T112713
CREATED:20240515T011831Z
LAST-MODIFIED:20240522T004631Z
UID:32564-1718301600-1718307000@www.waukeshacountyfair.com
SUMMARY:Beef Clinic - counts as two clinics
DESCRIPTION:Due to the robust content of this clinic\, it will count as two clinics.\nQuestions?! Email Jake Stellpflug – jstellpflug5@gmail.com
URL:https://www.waukeshacountyfair.com/event/beef-swine-clinic/
LOCATION:Oakridge Farm\, S40W35961 County Road C\, Dousman\, WI\, 53118\, United States
CATEGORIES:beef,Clinic
END:VEVENT
BEGIN:VEVENT
DTSTART;VALUE=DATE:20240615
DTEND;VALUE=DATE:20240616
DTSTAMP:20260419T112713
CREATED:20240320T223355Z
LAST-MODIFIED:20240320T223406Z
UID:32497-1718409600-1718495999@www.waukeshacountyfair.com
SUMMARY:Fair Entry Registration Closes 11:59 PM
DESCRIPTION:
URL:https://www.waukeshacountyfair.com/event/fair-entry-registration-closes-1159-pm-2/
LOCATION:WI
CATEGORIES:beef,Competitive Exhibits Meeting,Dairy,Goat Meeting,Horse,Judging,Livestock Meeting,Poultry Meeting,Rabbit,Sheep Meeting,Swine
END:VEVENT
BEGIN:VEVENT
DTSTART;TZID=America/Chicago:20240713T120000
DTEND;TZID=America/Chicago:20240713T140000
DTSTAMP:20260419T112713
CREATED:20240228T041534Z
LAST-MODIFIED:20240228T041534Z
UID:32361-1720872000-1720879200@www.waukeshacountyfair.com
SUMMARY:Beef Pen/Stall Assignment Set-Up 2024
DESCRIPTION:
URL:https://www.waukeshacountyfair.com/event/beef-pen-stall-assignment-set-up-2024/
LOCATION:Waukesha County Expo Grounds\, 1000 Northview Road\, Waukesha\, WI
CATEGORIES:beef,Livestock Meeting
END:VEVENT
BEGIN:VEVENT
DTSTART;TZID=America/Chicago:20240717T180000
DTEND;TZID=America/Chicago:20240717T183000
DTSTAMP:20260419T112713
CREATED:20240315T031917Z
LAST-MODIFIED:20240315T031917Z
UID:32437-1721239200-1721241000@www.waukeshacountyfair.com
SUMMARY:Junior Livestock Exhibitor Mandatory Meeting
DESCRIPTION:Located in the Insight FS Livestock Coliseum
URL:https://www.waukeshacountyfair.com/event/junior-livestock-exhibitor-mandatory-meeting-2024/
LOCATION:Waukesha County Expo Grounds\, 1000 Northview Road\, Waukesha\, WI
CATEGORIES:beef,Dairy,Goat Meeting,Livestock Meeting,Poultry Meeting,Rabbit,Sheep Meeting,Swine
END:VEVENT
BEGIN:VEVENT
DTSTART;TZID=America/Chicago:20240731T180000
DTEND;TZID=America/Chicago:20240731T193000
DTSTAMP:20260419T112713
CREATED:20240718T035840Z
LAST-MODIFIED:20240718T035940Z
UID:32690-1722448800-1722454200@www.waukeshacountyfair.com
SUMMARY:Carcass Show
DESCRIPTION:The annual Waukesha County Fair Carcass Show will be held Wednesday\, July 31st at Cedar Road Meats. Counts as a 2025 clinic.
URL:https://www.waukeshacountyfair.com/event/carcass-show-3/
LOCATION:Cedar Road Meats\, N5200 Cedar Road\, Iron Ridge\, WI\, 53035\, United States
CATEGORIES:beef,Clinic,Dairy,Goat Meeting,Livestock Meeting,Poultry Meeting,Rabbit,Sheep Meeting,Swine
END:VEVENT
BEGIN:VEVENT
DTSTART;TZID=America/Chicago:20250315T090000
DTEND;TZID=America/Chicago:20250315T110000
DTSTAMP:20260419T112713
CREATED:20250203T225949Z
LAST-MODIFIED:20250203T230122Z
UID:32773-1742029200-1742036400@www.waukeshacountyfair.com
SUMMARY:Beef/Steer Weigh-In
DESCRIPTION:Beef Weigh-in is MANDATORY for youth exhibitors selling animals at the auction
URL:https://www.waukeshacountyfair.com/event/beef-weigh-in/
LOCATION:Aaron Schuett’s Farm\, Ehr Drive & County Rd. I\, Mukwonago\, WI\, 53149\, United States
CATEGORIES:beef,Clinic
END:VEVENT
BEGIN:VEVENT
DTSTART;VALUE=DATE:20250430
DTEND;VALUE=DATE:20250501
DTSTAMP:20260419T112713
CREATED:20250409T154722Z
LAST-MODIFIED:20250409T155035Z
UID:32920-1745971200-1746057599@www.waukeshacountyfair.com
SUMMARY:Jr. Market Livestock Photos Deadline
DESCRIPTION:Last Day to Submit Junior Market Livestock Photos. Submissions due by 11:59 PM. \n2025 Jr. Beef Tag & Photo Submission Form – Due 4/30\n2025 Jr. Swine Tag & Photo Submission Form – Due 4/30\n2025 Jr. Sheep Tag & Photo Submission Form – Due 4/30\n2025 Jr. Goats Tag & Photo Submission Form – Due 4/30
URL:https://www.waukeshacountyfair.com/event/jr-market-livestock-photos-deadline-2025/
LOCATION:WI
CATEGORIES:beef,Goat Meeting,Livestock Meeting,Sheep Meeting,Swine
END:VEVENT
BEGIN:VEVENT
DTSTART;TZID=America/Chicago:20250614T070000
DTEND;TZID=America/Chicago:20250614T150000
DTSTAMP:20260419T112713
CREATED:20250531T050857Z
LAST-MODIFIED:20250531T050857Z
UID:33033-1749884400-1749913200@www.waukeshacountyfair.com
SUMMARY:Sand County Showmanship Showdown - Counts as a Clinic
DESCRIPTION:Sheep Clinic: 8 – 9:30 am\nSheep Showmanship: 10 am\nBeef Clinic: 11:30 am – 1 pm\nBeef Showmanship: 1:30 pm \nFor More Information: sandcountyshow@gmail.com\nJosh Oleson (Beef): (608)547-0430\nTori Babcock (Sheep): (608)572-1402
URL:https://www.waukeshacountyfair.com/event/sand-county-showmanship-showdown-2025/
LOCATION:Adams County Fairgrounds\, Friendship\, WI\, United States
CATEGORIES:beef,Clinic,Sheep Meeting
END:VEVENT
BEGIN:VEVENT
DTSTART;VALUE=DATE:20250615
DTEND;VALUE=DATE:20250616
DTSTAMP:20260419T112713
CREATED:20250320T193850Z
LAST-MODIFIED:20250531T040424Z
UID:32877-1749945600-1750031999@www.waukeshacountyfair.com
SUMMARY:Fair Entry Registration Closes 11:59 PM
DESCRIPTION:The Fair Office will be open for questions 10 am – 4pm.
URL:https://www.waukeshacountyfair.com/event/fair-entry-registration-closes-1159-pm-2025/
LOCATION:WI
CATEGORIES:beef,Competitive Exhibits Meeting,Dairy,Goat Meeting,Horse,Judging,Livestock Meeting,Poultry Meeting,Rabbit,Sheep Meeting,Swine
END:VEVENT
BEGIN:VEVENT
DTSTART;TZID=America/Chicago:20250618T183000
DTEND;TZID=America/Chicago:20250618T193000
DTSTAMP:20260419T112713
CREATED:20250607T031406Z
LAST-MODIFIED:20250607T031406Z
UID:33044-1750271400-1750275000@www.waukeshacountyfair.com
SUMMARY:Swine & Steer Clinic
DESCRIPTION:Open to all Waukesha County Fair youth exhibitors.\nTopic: Steer & Swine > Feed & Nutrition
URL:https://www.waukeshacountyfair.com/event/swine-steer-clinic-2025/
LOCATION:Oakridge Farm\, S40W35961 County Road C\, Dousman\, WI\, 53118\, United States
CATEGORIES:beef,Clinic,Swine
END:VEVENT
BEGIN:VEVENT
DTSTART;TZID=America/Chicago:20250712T120000
DTEND;TZID=America/Chicago:20250712T140000
DTSTAMP:20260419T112713
CREATED:20250409T152825Z
LAST-MODIFIED:20250409T152908Z
UID:32912-1752321600-1752328800@www.waukeshacountyfair.com
SUMMARY:Beef Pen/Stall Assignment Set-Up 2025
DESCRIPTION:
URL:https://www.waukeshacountyfair.com/event/beef-pen-stall-assignment-set-up-2025/
LOCATION:Waukesha County Expo Grounds\, 1000 Northview Road\, Waukesha\, WI
CATEGORIES:beef,Livestock Meeting
END:VEVENT
BEGIN:VEVENT
DTSTART;TZID=America/Chicago:20250713T160000
DTEND;TZID=America/Chicago:20250713T180000
DTSTAMP:20260419T112713
CREATED:20250409T153622Z
LAST-MODIFIED:20250409T153622Z
UID:32916-1752422400-1752429600@www.waukeshacountyfair.com
SUMMARY:Livestock Show Ring Set-up 2025
DESCRIPTION:
URL:https://www.waukeshacountyfair.com/event/livestock-show-ring-set-up-2025/
LOCATION:Waukesha County Expo Grounds\, 1000 Northview Road\, Waukesha\, WI
CATEGORIES:beef,Dairy,Goat Meeting,Horse,Livestock Meeting,Poultry Meeting,Rabbit,Sheep Meeting,Swine
END:VEVENT
BEGIN:VEVENT
DTSTART;TZID=America/Chicago:20260314T090000
DTEND;TZID=America/Chicago:20260314T100000
DTSTAMP:20260419T112713
CREATED:20260210T150510Z
LAST-MODIFIED:20260220T200342Z
UID:33281-1773478800-1773482400@www.waukeshacountyfair.com
SUMMARY:Beef Weigh-In
DESCRIPTION:Beef Weigh-In – Saturday\, March 14th\nTime: 9-10 am*\nLocation: Schuett’s Farm – The end of Ehr Drive and County Road I\nMukwonago\, WI (One mile east of Hwy 83) \nFarm Location Link: https://goo.gl/maps/QxD4QH44WFz \n**We are looking to get a count of who will be joining us. We are asking you to please fill out this quick sign up so we have an idea of number of attendees: 2026 Beef Weigh-In Registration \nAnimals will be tagged & photographed on-site at the time of the weigh-in. Tags are $4.
URL:https://www.waukeshacountyfair.com/event/beef-weigh-in-2026/
LOCATION:Aaron Schuett’s Farm\, Ehr Drive & County Rd. I\, Mukwonago\, WI\, 53149\, United States
CATEGORIES:beef
END:VEVENT
BEGIN:VEVENT
DTSTART;VALUE=DATE:20260516
DTEND;VALUE=DATE:20260517
DTSTAMP:20260419T112713
CREATED:20260314T195759Z
LAST-MODIFIED:20260314T195759Z
UID:33339-1778889600-1778975999@www.waukeshacountyfair.com
SUMMARY:WLBA Show Camp - Counts as a Clinic
DESCRIPTION:Wisconsin Livestock Breeder’s Association (WLBA) Show Camp\n            Where: Rock County Fairgrounds: 1301 Craig Avenue\, Janesville\, WI 53545\n            Time: All Day Event w/lunch included\nTopics: daily care\, exercise\, nutrition\, fitting & showmanship\n            >Species Approved – Beef\, Sheep\, Goats & Swine \nRegistration Due: April 25th\nDetails: Bring your own animals\nWebsite: https://www.wisconsinlivestockbreeders.com/showcamp.html\nContact Info: Jill Alf\, WLBA Executive Director\nPhone: 1-608-449-0611\nEmail: wisconsinlivestockbreeders@gmail.com
URL:https://www.waukeshacountyfair.com/event/wlba-show-camp-051626/
LOCATION:Rock County Fairgrounds\, 1301 Craig Avenue\, Janesville\, WI\, 53545\, United States
CATEGORIES:beef,Clinic,Goat Meeting,Sheep Meeting,Swine
END:VEVENT
BEGIN:VEVENT
DTSTART;TZID=America/Chicago:20260613T080000
DTEND;TZID=America/Chicago:20260613T140000
DTSTAMP:20260419T112713
CREATED:20260415T015813Z
LAST-MODIFIED:20260415T015813Z
UID:33433-1781337600-1781359200@www.waukeshacountyfair.com
SUMMARY:2026 Sand County Showmanship Showdown - counts as a clinic
DESCRIPTION:Sheep Clinic & Beef Clinic\nAdams County Fairgrounds\, Friendship\, WI\n\nFor Info – Email: sandcountyshow@gmail.com
URL:https://www.waukeshacountyfair.com/event/2026-sand-county-showmanship-showdown/
LOCATION:Adams County Fairgrounds\, Friendship\, WI\, United States
CATEGORIES:beef,Clinic,Sheep Meeting
END:VEVENT
END:VCALENDAR