BEGIN:VCALENDAR
VERSION:2.0
PRODID:-//Waukesha County Fair - ECPv6.15.20//NONSGML v1.0//EN
CALSCALE:GREGORIAN
METHOD:PUBLISH
X-ORIGINAL-URL:https://www.waukeshacountyfair.com
X-WR-CALDESC:Events for Waukesha County Fair
REFRESH-INTERVAL;VALUE=DURATION:PT1H
X-Robots-Tag:noindex
X-PUBLISHED-TTL:PT1H
BEGIN:VTIMEZONE
TZID:America/Chicago
BEGIN:DAYLIGHT
TZOFFSETFROM:-0600
TZOFFSETTO:-0500
TZNAME:CDT
DTSTART:20250309T080000
END:DAYLIGHT
BEGIN:STANDARD
TZOFFSETFROM:-0500
TZOFFSETTO:-0600
TZNAME:CST
DTSTART:20251102T070000
END:STANDARD
BEGIN:DAYLIGHT
TZOFFSETFROM:-0600
TZOFFSETTO:-0500
TZNAME:CDT
DTSTART:20260308T080000
END:DAYLIGHT
BEGIN:STANDARD
TZOFFSETFROM:-0500
TZOFFSETTO:-0600
TZNAME:CST
DTSTART:20261101T070000
END:STANDARD
BEGIN:DAYLIGHT
TZOFFSETFROM:-0600
TZOFFSETTO:-0500
TZNAME:CDT
DTSTART:20270314T080000
END:DAYLIGHT
BEGIN:STANDARD
TZOFFSETFROM:-0500
TZOFFSETTO:-0600
TZNAME:CST
DTSTART:20271107T070000
END:STANDARD
END:VTIMEZONE
BEGIN:VEVENT
DTSTART;TZID=America/Chicago:20260314T090000
DTEND;TZID=America/Chicago:20260314T100000
DTSTAMP:20260423T064145
CREATED:20260210T150510Z
LAST-MODIFIED:20260220T200342Z
UID:33281-1773478800-1773482400@www.waukeshacountyfair.com
SUMMARY:Beef Weigh-In
DESCRIPTION:Beef Weigh-In – Saturday\, March 14th\nTime: 9-10 am*\nLocation: Schuett’s Farm – The end of Ehr Drive and County Road I\nMukwonago\, WI (One mile east of Hwy 83) \nFarm Location Link: https://goo.gl/maps/QxD4QH44WFz \n**We are looking to get a count of who will be joining us. We are asking you to please fill out this quick sign up so we have an idea of number of attendees: 2026 Beef Weigh-In Registration \nAnimals will be tagged & photographed on-site at the time of the weigh-in. Tags are $4.
URL:https://www.waukeshacountyfair.com/event/beef-weigh-in-2026/
LOCATION:Aaron Schuett’s Farm\, Ehr Drive & County Rd. I\, Mukwonago\, WI\, 53149\, United States
CATEGORIES:beef
END:VEVENT
BEGIN:VEVENT
DTSTART;VALUE=DATE:20260516
DTEND;VALUE=DATE:20260517
DTSTAMP:20260423T064145
CREATED:20260314T195759Z
LAST-MODIFIED:20260314T195759Z
UID:33339-1778889600-1778975999@www.waukeshacountyfair.com
SUMMARY:WLBA Show Camp - Counts as a Clinic
DESCRIPTION:Wisconsin Livestock Breeder’s Association (WLBA) Show Camp\n            Where: Rock County Fairgrounds: 1301 Craig Avenue\, Janesville\, WI 53545\n            Time: All Day Event w/lunch included\nTopics: daily care\, exercise\, nutrition\, fitting & showmanship\n            >Species Approved – Beef\, Sheep\, Goats & Swine \nRegistration Due: April 25th\nDetails: Bring your own animals\nWebsite: https://www.wisconsinlivestockbreeders.com/showcamp.html\nContact Info: Jill Alf\, WLBA Executive Director\nPhone: 1-608-449-0611\nEmail: wisconsinlivestockbreeders@gmail.com
URL:https://www.waukeshacountyfair.com/event/wlba-show-camp-051626/
LOCATION:Rock County Fairgrounds\, 1301 Craig Avenue\, Janesville\, WI\, 53545\, United States
CATEGORIES:beef,Clinic,Goat Meeting,Sheep Meeting,Swine
END:VEVENT
BEGIN:VEVENT
DTSTART;TZID=America/Chicago:20260604T180000
DTEND;TZID=America/Chicago:20260604T193000
DTSTAMP:20260423T064145
CREATED:20260422T074103Z
LAST-MODIFIED:20260422T074103Z
UID:33485-1780596000-1780601400@www.waukeshacountyfair.com
SUMMARY:2026 Beef and Swine Educational Clinic
DESCRIPTION:*This educational event\, put on by the Waukesha County Fair\, officially counts as 2 approved Fair clinics in one. \nWhat: Waukesha County Fair – BEEF & SWINE Educational Clinic\nWhen: Thursday\, June 4th @ 6pm\nWhere: Oak Ridge Farm\n            S40 W35961 County Road C\n            Dousman\, WI 53118 \nContact Info – Questions?! Reach out to Jake –\n                        jstellpflug5@gmail.com
URL:https://www.waukeshacountyfair.com/event/2026-beef-and-swine-educational-clinic/
LOCATION:Oakridge Farm\, S40W35961 County Road C\, Dousman\, WI\, 53118\, United States
CATEGORIES:beef,Clinic,Swine
END:VEVENT
BEGIN:VEVENT
DTSTART;TZID=America/Chicago:20260613T080000
DTEND;TZID=America/Chicago:20260613T140000
DTSTAMP:20260423T064145
CREATED:20260415T015813Z
LAST-MODIFIED:20260415T015813Z
UID:33433-1781337600-1781359200@www.waukeshacountyfair.com
SUMMARY:2026 Sand County Showmanship Showdown - counts as a clinic
DESCRIPTION:Sheep Clinic & Beef Clinic\nAdams County Fairgrounds\, Friendship\, WI\n\nFor Info – Email: sandcountyshow@gmail.com
URL:https://www.waukeshacountyfair.com/event/2026-sand-county-showmanship-showdown/
LOCATION:Adams County Fairgrounds\, Friendship\, WI\, United States
CATEGORIES:beef,Clinic,Sheep Meeting
END:VEVENT
END:VCALENDAR