BEGIN:VCALENDAR
VERSION:2.0
PRODID:-//Waukesha County Fair - ECPv6.15.20//NONSGML v1.0//EN
CALSCALE:GREGORIAN
METHOD:PUBLISH
X-WR-CALNAME:Waukesha County Fair
X-ORIGINAL-URL:https://www.waukeshacountyfair.com
X-WR-CALDESC:Events for Waukesha County Fair
REFRESH-INTERVAL;VALUE=DURATION:PT1H
X-Robots-Tag:noindex
X-PUBLISHED-TTL:PT1H
BEGIN:VTIMEZONE
TZID:America/Chicago
BEGIN:DAYLIGHT
TZOFFSETFROM:-0600
TZOFFSETTO:-0500
TZNAME:CDT
DTSTART:20190310T080000
END:DAYLIGHT
BEGIN:STANDARD
TZOFFSETFROM:-0500
TZOFFSETTO:-0600
TZNAME:CST
DTSTART:20191103T070000
END:STANDARD
BEGIN:DAYLIGHT
TZOFFSETFROM:-0600
TZOFFSETTO:-0500
TZNAME:CDT
DTSTART:20200308T080000
END:DAYLIGHT
BEGIN:STANDARD
TZOFFSETFROM:-0500
TZOFFSETTO:-0600
TZNAME:CST
DTSTART:20201101T070000
END:STANDARD
BEGIN:DAYLIGHT
TZOFFSETFROM:-0600
TZOFFSETTO:-0500
TZNAME:CDT
DTSTART:20210314T080000
END:DAYLIGHT
BEGIN:STANDARD
TZOFFSETFROM:-0500
TZOFFSETTO:-0600
TZNAME:CST
DTSTART:20211107T070000
END:STANDARD
BEGIN:DAYLIGHT
TZOFFSETFROM:-0600
TZOFFSETTO:-0500
TZNAME:CDT
DTSTART:20220313T080000
END:DAYLIGHT
BEGIN:STANDARD
TZOFFSETFROM:-0500
TZOFFSETTO:-0600
TZNAME:CST
DTSTART:20221106T070000
END:STANDARD
BEGIN:DAYLIGHT
TZOFFSETFROM:-0600
TZOFFSETTO:-0500
TZNAME:CDT
DTSTART:20230312T080000
END:DAYLIGHT
BEGIN:STANDARD
TZOFFSETFROM:-0500
TZOFFSETTO:-0600
TZNAME:CST
DTSTART:20231105T070000
END:STANDARD
BEGIN:DAYLIGHT
TZOFFSETFROM:-0600
TZOFFSETTO:-0500
TZNAME:CDT
DTSTART:20240310T080000
END:DAYLIGHT
BEGIN:STANDARD
TZOFFSETFROM:-0500
TZOFFSETTO:-0600
TZNAME:CST
DTSTART:20241103T070000
END:STANDARD
END:VTIMEZONE
BEGIN:VEVENT
DTSTART;VALUE=DATE:20230430
DTEND;VALUE=DATE:20230501
DTSTAMP:20260421T045624
CREATED:20230412T175630Z
LAST-MODIFIED:20230414T155718Z
UID:31957-1682812800-1682899199@www.waukeshacountyfair.com
SUMMARY:Junior Market Livestock Tag & Photo Submissions Due
DESCRIPTION:2023 Jr. Beef Tag & Photo Submission Form – Due 4/30\n2023 Jr. Swine Tag & Photo Submission Form – Due 4/30\n2023 Jr. Sheep Tag & Photo Submission Form – Due 4/30\n2023 Jr. Goat Tag & Photo Submission Form – Due 4/30
URL:https://www.waukeshacountyfair.com/event/junior-livestock-tag-photo-submissions-due/
CATEGORIES:beef,Goat Meeting,Livestock Meeting,Sheep Meeting,Swine
END:VEVENT
BEGIN:VEVENT
DTSTART;TZID=America/Chicago:20230422T090000
DTEND;TZID=America/Chicago:20230422T110000
DTSTAMP:20260421T045624
CREATED:20230210T214526Z
LAST-MODIFIED:20230210T220217Z
UID:31838-1682154000-1682161200@www.waukeshacountyfair.com
SUMMARY:Sheep & Goat Weigh-In
DESCRIPTION:Saturday\, April 22nd\, 2023\n9-11am \nKurth Farms:\nN41 W28899 Imperial Drive\nPewaukee\, WI 53072 \nSheep-\nThere will be a weigh-in on Saturday\, April 22nd at Kurth Farms (N41 W28899 Imperial Drive\, Pewaukee) from 9-11am for any market sheep. Animals will be tagged and photographed for Waukesha County Fair records at this weigh-in. Tags are $4.00 each – cash and check will be accepted on-site. If you are unable to attend the weigh-in two (2) photos of the sheep – 1st with a clear\, visible tag in ear/with full headshot and 2nd with the FULL BODY are due to the Fair Office by April 30th. They can be dropped off\, mailed\, or emailed to wcf1842livestock@gmail.com. (see
URL:https://www.waukeshacountyfair.com/event/sheep-goat-weigh-in/
LOCATION:Kurth Farms\, N41W28899 Imperial Drive\, Pewaukee\, WI\, 53072
CATEGORIES:Goat Meeting,Livestock Meeting,Sheep Meeting
END:VEVENT
BEGIN:VEVENT
DTSTART;TZID=America/Chicago:20230403T190000
DTEND;TZID=America/Chicago:20230403T200000
DTSTAMP:20260421T045624
CREATED:20230403T040154Z
LAST-MODIFIED:20230403T040154Z
UID:31950-1680548400-1680552000@www.waukeshacountyfair.com
SUMMARY:Reproductive Technologies in Agriculture - counts as a clinic
DESCRIPTION:The last virtual Wisconsin Youth Livestock Program animal sciences educational session is Monday\, April 3rd.  Join us to learn more about reproductive technologies with some demonstrations from Dr. Nate Dorshorst.  He will also share how the technologies are changing and advancing the industry.  Register by going to https://go.wisc.edu/tnq61h \nThis series is offered in connection with the University of Wisconsin Madison Animal & Dairy Sciences Department\, College of Agricultural and Life Sciences\, and Division of Extension.
URL:https://www.waukeshacountyfair.com/event/reproductive-technologies-in-agriculture-counts-as-a-clinic/
LOCATION:Zoom
CATEGORIES:beef,Clinic,Goat Meeting,Poultry Meeting,Rabbit,Sheep Meeting,Swine
END:VEVENT
BEGIN:VEVENT
DTSTART;TZID=America/Chicago:20220803T180000
DTEND;TZID=America/Chicago:20220803T193000
DTSTAMP:20260421T045624
CREATED:20220704T185944Z
LAST-MODIFIED:20220704T191920Z
UID:31719-1659549600-1659555000@www.waukeshacountyfair.com
SUMMARY:Carcass Show
DESCRIPTION:The annual Waukesha County Fair Carcass Show will be held Wednesday\, August 3rd at Cedar Road Meats!
URL:https://www.waukeshacountyfair.com/event/carcass-show/
LOCATION:Cedar Road Meats\, N5200 Cedar Road\, Iron Ridge\, WI\, 53035\, United States
CATEGORIES:beef,Goat Meeting,Judging,Livestock Meeting,Poultry Meeting,Rabbit,Sheep Meeting,Swine
END:VEVENT
BEGIN:VEVENT
DTSTART;TZID=America/Chicago:20220720T180000
DTEND;TZID=America/Chicago:20220720T190000
DTSTAMP:20260421T045624
CREATED:20220712T022625Z
LAST-MODIFIED:20220712T022625Z
UID:31728-1658340000-1658343600@www.waukeshacountyfair.com
SUMMARY:Mandatory Livestock Auction Exhibitor Meeting
DESCRIPTION:Mandatory Livestock Auction Meeting w/ weigh-in to follow at the Insight FS Livestock Coliseum (west end of the Dairy Barn – inside)
URL:https://www.waukeshacountyfair.com/event/mandatory-livestock-auction-exhibitor-meeting/
LOCATION:Waukesha County Expo Grounds\, 1000 Northview Road\, Waukesha\, WI
CATEGORIES:beef,Goat Meeting,Livestock Meeting,Poultry Meeting,Rabbit,Sheep Meeting,Swine
END:VEVENT
BEGIN:VEVENT
DTSTART;TZID=America/Chicago:20220718T183000
DTEND;TZID=America/Chicago:20220718T203000
DTSTAMP:20260421T045624
CREATED:20220328T224753Z
LAST-MODIFIED:20220328T224753Z
UID:31559-1658169000-1658176200@www.waukeshacountyfair.com
SUMMARY:Sheep/Goats Pen/Stall Assignment Set-Up
DESCRIPTION:Location: Sheep/Goat Tent
URL:https://www.waukeshacountyfair.com/event/sheep-goats-pen-stall-assignment-set-up/
LOCATION:Waukesha County Expo Grounds\, 1000 Northview Road\, Waukesha\, WI
CATEGORIES:Goat Meeting,Sheep Meeting
END:VEVENT
BEGIN:VEVENT
DTSTART;TZID=America/Chicago:20220717T160000
DTEND;TZID=America/Chicago:20220717T180000
DTSTAMP:20260421T045624
CREATED:20220328T224255Z
LAST-MODIFIED:20220328T224255Z
UID:31556-1658073600-1658080800@www.waukeshacountyfair.com
SUMMARY:Livestock Show Ring Set-Up
DESCRIPTION:Location: Dairy Barn Coliseum
URL:https://www.waukeshacountyfair.com/event/livestock-show-ring-set-up-2/
LOCATION:Waukesha County Expo Grounds\, 1000 Northview Road\, Waukesha\, WI
CATEGORIES:beef,Dairy,Goat Meeting,Livestock Meeting,Poultry Meeting,Rabbit,Sheep Meeting,Swine
END:VEVENT
BEGIN:VEVENT
DTSTART;TZID=America/Chicago:20220707T180000
DTEND;TZID=America/Chicago:20220707T190000
DTSTAMP:20260421T045624
CREATED:20220527T004727Z
LAST-MODIFIED:20220527T004727Z
UID:31642-1657216800-1657220400@www.waukeshacountyfair.com
SUMMARY:Livestock Clinic
DESCRIPTION:This Livestock clinic will be demonstrating prep & show day tips for Beef Cattle\, Hogs\, and Meat Goats.
URL:https://www.waukeshacountyfair.com/event/livestock-clinic/
LOCATION:Oakridge Farm\, S40W35961 County Road C\, Dousman\, WI\, 53118\, United States
CATEGORIES:beef,Clinic,Goat Meeting,Swine
END:VEVENT
BEGIN:VEVENT
DTSTART;VALUE=DATE:20220615
DTEND;VALUE=DATE:20220616
DTSTAMP:20260421T045624
CREATED:20220211T012857Z
LAST-MODIFIED:20220211T012857Z
UID:31455-1655251200-1655337599@www.waukeshacountyfair.com
SUMMARY:YQCA certification deadline
DESCRIPTION:YQCA online testing is required for ALL Livestock Exhibitors who plan on selling an animal or milk at the 2022 Waukesha County Fair Junior Livestock Auction. Testing must be completed by June 15th! More information can be found on the Entry Info Page. Reach out to the Fair Office by phone or email Chrissy Gluege\, Executive Director\, at Chrissy@waukeshacountyfair.com with any questions.
URL:https://www.waukeshacountyfair.com/event/yqca-certification-deadline/
CATEGORIES:beef,Goat Meeting,Poultry Meeting,Rabbit,Sheep Meeting,Swine,YQCA
END:VEVENT
BEGIN:VEVENT
DTSTART;TZID=America/Chicago:20220423T090000
DTEND;TZID=America/Chicago:20220423T110000
DTSTAMP:20260421T045624
CREATED:20220209T013224Z
LAST-MODIFIED:20220315T004014Z
UID:31446-1650704400-1650711600@www.waukeshacountyfair.com
SUMMARY:Mandatory Sheep & Goat Weigh-In
DESCRIPTION:Saturday\, April 23rd\, 2022\n9-11am \nKurth Farms:\nN41 W28899 Imperial Drive\nPewaukee\, WI 53072 \nSheep-\nThere will be a Mandatory weigh-in on Saturday\, April 23rd at Kurth Farms (N41 W28899 Imperial Drive\, Pewaukee) from 9-11am for any market sheep. Animals will be tagged and photographed for Waukesha County Fair records at this weigh-in. Tags are $4.00 each – cash and check will be accepted on-site. (see Department 204 – Junior Sheep rules for details!) \nGoats-\nThere will be a Mandatory weigh-in on Saturday\, April 23rd at Kurth Farms (N41 W28899 Imperial Drive\, Pewaukee) from 9-11am for any market goats. Animals will be tagged and photographed for Waukesha County Fair records at this weigh-in. Tags are $4.00 each – cash and check will be accepted on-site. (see  Department 205 – Junior Goats rules for details!)
URL:https://www.waukeshacountyfair.com/event/mandatory-sheep-goat-weigh-in-3/
LOCATION:Kurth Farms\, N41W28899 Imperial Drive\, Pewaukee\, WI\, 53072
CATEGORIES:Goat Meeting,Sheep Meeting
END:VEVENT
BEGIN:VEVENT
DTSTART;TZID=America/Chicago:20220227T090000
DTEND;TZID=America/Chicago:20220227T103000
DTSTAMP:20260421T045624
CREATED:20220211T010009Z
LAST-MODIFIED:20220211T010009Z
UID:31449-1645952400-1645957800@www.waukeshacountyfair.com
SUMMARY:Livestock/Market Animal Informational Meeting
DESCRIPTION:Are you a NEW FAMILY or just NEWER to showing Livestock/Market Animals? Join us for an informative virtual zoom session on what goes into Waukesha County Fair market animals. We will touch on all 6 species areas along with key reminders to consider as you look ahead to this year and possibly get more involved next year. There will be open time at the end for Q&A. \nPlease contact us at the Fair Office (262-544-5922) or via email Chrissy@waukeshacountyfair.com for more information.
URL:https://www.waukeshacountyfair.com/event/livestock-market-animal-informational-meeting/
LOCATION:Zoom
CATEGORIES:beef,Goat Meeting,Livestock Meeting,Poultry Meeting,Rabbit,Sheep Meeting,Swine
END:VEVENT
BEGIN:VEVENT
DTSTART;TZID=America/Chicago:20220106T180000
DTEND;TZID=America/Chicago:20220106T190000
DTSTAMP:20260421T045624
CREATED:20220106T004322Z
LAST-MODIFIED:20220106T004322Z
UID:31346-1641492000-1641495600@www.waukeshacountyfair.com
SUMMARY:Blain’s Farm & Fleet Show Virtual Event - Counts as a clinic
DESCRIPTION:Pre-Register: https://www.eventbrite.com/e/blains-show-virtual-event-registration-144254861173 \nAbout this event\n\n\nLet’s get ready to show! Join Nutrena’s show feed experts\, along with Blain’s Farm & Fleet and Weaver Livestock for this three-species show event. \nDuring this virtual event we will dive into the following topics for pigs\, lambs & goats: \n• Animal Selection: Body Part Identification\, Selection Criteria\, Evaluation Points \n• Preparing For New Animals: Facilities/Pens\, Safety\, Ventilation\, Feed & Supply Storage\, Weighing & Tracking\, Wash Rack\, Clipping & Fitting Area \n• Acclimating New Animals \n• Early Feeding Strategies \n• Beginning Breaking & Training \n• Early Season Daily Hair & Hide Care \n• Key Daily Care Products
URL:https://www.waukeshacountyfair.com/event/blains-farm-fleet-show-virtual-event-counts-as-a-clinic/
LOCATION:Zoom
CATEGORIES:Clinic,Goat Meeting,Livestock Meeting,Sheep Meeting,Swine
END:VEVENT
BEGIN:VEVENT
DTSTART;TZID=America/Chicago:20210719T183000
DTEND;TZID=America/Chicago:20210719T203000
DTSTAMP:20260421T045624
CREATED:20210611T033147Z
LAST-MODIFIED:20210611T033147Z
UID:31179-1626719400-1626726600@www.waukeshacountyfair.com
SUMMARY:Sheep/Goats Livestock Pen/Stall Assignment Set-Up
DESCRIPTION:Location: Sheep/Goat tent
URL:https://www.waukeshacountyfair.com/event/sheep-goats-livestock-pen-stall-assignment-set-up/
LOCATION:Waukesha County Expo Grounds\, 1000 Northview Road\, Waukesha\, WI
CATEGORIES:Goat Meeting,Sheep Meeting
END:VEVENT
BEGIN:VEVENT
DTSTART;TZID=America/Chicago:20210718T160000
DTEND;TZID=America/Chicago:20210718T180000
DTSTAMP:20260421T045624
CREATED:20210611T032517Z
LAST-MODIFIED:20210611T032553Z
UID:31176-1626624000-1626631200@www.waukeshacountyfair.com
SUMMARY:Livestock Show Ring Set-Up
DESCRIPTION:Location: Dairy Barn Coliseum
URL:https://www.waukeshacountyfair.com/event/livestock-show-ring-set-up/
LOCATION:Waukesha County Expo Grounds\, 1000 Northview Road\, Waukesha\, WI
CATEGORIES:beef,Dairy,Goat Meeting,Livestock Meeting,Poultry Meeting,Rabbit,Sheep Meeting,Swine
END:VEVENT
BEGIN:VEVENT
DTSTART;TZID=America/Chicago:20210706T183000
DTEND;TZID=America/Chicago:20210706T193000
DTSTAMP:20260421T045624
CREATED:20210629T152448Z
LAST-MODIFIED:20210629T152448Z
UID:31215-1625596200-1625599800@www.waukeshacountyfair.com
SUMMARY:Goat Agility Clinic - Counts As A Clinic
DESCRIPTION:Attention Goat Exhibitors! Join us next week for a Goat Agility Clinic!\n**Open to all Youth Exhibitors** \nDate: July 6\nTime: 6:30-7:30pm\nLocation: Quixotic Acres W289 S2990 County Rd DT Waukesha\, WI 53188\nQuestions? Contact Connie Crowe- ccgardenmom@gmail.com
URL:https://www.waukeshacountyfair.com/event/goat-agility-clinic-counts-as-a-clinic/
LOCATION:Quixotic Acres\, W289 S2990 County Rd DT\, Waukesha\, WI\, 53188\, United States
CATEGORIES:Clinic,Goat Meeting
END:VEVENT
BEGIN:VEVENT
DTSTART;TZID=America/Chicago:20210623T183000
DTEND;TZID=America/Chicago:20210623T193000
DTSTAMP:20260421T045624
CREATED:20210619T163323Z
LAST-MODIFIED:20210619T163323Z
UID:31203-1624473000-1624476600@www.waukeshacountyfair.com
SUMMARY:Goat Showmanship Clinic - Counts As A Clinic
DESCRIPTION:**ALL YOUTH ORGANIZATION MEMBERS INTERESTED IN GOATS ARE WELCOME!**
URL:https://www.waukeshacountyfair.com/event/goat-showmanship-clinic-counts-as-a-clinic/
LOCATION:Morning Glow Farm\, N80 W34680 Petersen Rd\, Oconomowoc\, WI\, 53066\, United States
CATEGORIES:Clinic,Goat Meeting
END:VEVENT
BEGIN:VEVENT
DTSTART;TZID=America/Chicago:20210424T090000
DTEND;TZID=America/Chicago:20210424T110000
DTSTAMP:20260421T045624
CREATED:20210306T232827Z
LAST-MODIFIED:20210307T050043Z
UID:30985-1619254800-1619262000@www.waukeshacountyfair.com
SUMMARY:Mandatory Sheep & Goat Weigh-In
DESCRIPTION:
URL:https://www.waukeshacountyfair.com/event/mandatory-sheep-goat-weigh-in-2/
LOCATION:Kurth Farms\, N41W28899 Imperial Drive\, Pewaukee\, WI\, 53072
CATEGORIES:Goat Meeting,Sheep Meeting
END:VEVENT
BEGIN:VEVENT
DTSTART;TZID=America/Chicago:20200425T090000
DTEND;TZID=America/Chicago:20200425T110000
DTSTAMP:20260421T045624
CREATED:20200124T211736Z
LAST-MODIFIED:20200323T185801Z
UID:30240-1587805200-1587812400@www.waukeshacountyfair.com
SUMMARY:CANCELLED -*MANDATORY* Sheep & Goat Weigh-In
DESCRIPTION:THIS HAS BEEN CANCELLED FOR 2020. \nWe do tag on-site at this weigh-in
URL:https://www.waukeshacountyfair.com/event/mandatory-sheep-goat-weigh-in/
LOCATION:Kurth Farms\, N41W28899 Imperial Drive\, Pewaukee\, WI\, 53072
CATEGORIES:Goat Meeting,Sheep Meeting
END:VEVENT
BEGIN:VEVENT
DTSTART;TZID=America/Chicago:20200202T100000
DTEND;TZID=America/Chicago:20200202T120000
DTSTAMP:20260421T045624
CREATED:20200124T211255Z
LAST-MODIFIED:20200124T211255Z
UID:30228-1580637600-1580644800@www.waukeshacountyfair.com
SUMMARY:"Let's Talk Livestock" Fair Event & Clinic
DESCRIPTION:
URL:https://www.waukeshacountyfair.com/event/lets-talk-livestock-fair-event-clinic/
LOCATION:Waukesha State Bank – East Racine Branch\, 1709 E. Racine Ave. \, Waukesha\, WI\, 53189\, United States
CATEGORIES:beef,Clinic,Goat Meeting,Judging,Livestock Meeting,Poultry Meeting,Rabbit,Sheep Meeting,Swine
END:VEVENT
END:VCALENDAR