BEGIN:VCALENDAR
VERSION:2.0
PRODID:-//Waukesha County Fair - ECPv6.15.20//NONSGML v1.0//EN
CALSCALE:GREGORIAN
METHOD:PUBLISH
X-WR-CALNAME:Waukesha County Fair
X-ORIGINAL-URL:https://www.waukeshacountyfair.com
X-WR-CALDESC:Events for Waukesha County Fair
REFRESH-INTERVAL;VALUE=DURATION:PT1H
X-Robots-Tag:noindex
X-PUBLISHED-TTL:PT1H
BEGIN:VTIMEZONE
TZID:America/Chicago
BEGIN:DAYLIGHT
TZOFFSETFROM:-0600
TZOFFSETTO:-0500
TZNAME:CDT
DTSTART:20220313T080000
END:DAYLIGHT
BEGIN:STANDARD
TZOFFSETFROM:-0500
TZOFFSETTO:-0600
TZNAME:CST
DTSTART:20221106T070000
END:STANDARD
BEGIN:DAYLIGHT
TZOFFSETFROM:-0600
TZOFFSETTO:-0500
TZNAME:CDT
DTSTART:20230312T080000
END:DAYLIGHT
BEGIN:STANDARD
TZOFFSETFROM:-0500
TZOFFSETTO:-0600
TZNAME:CST
DTSTART:20231105T070000
END:STANDARD
BEGIN:DAYLIGHT
TZOFFSETFROM:-0600
TZOFFSETTO:-0500
TZNAME:CDT
DTSTART:20240310T080000
END:DAYLIGHT
BEGIN:STANDARD
TZOFFSETFROM:-0500
TZOFFSETTO:-0600
TZNAME:CST
DTSTART:20241103T070000
END:STANDARD
END:VTIMEZONE
BEGIN:VEVENT
DTSTART;TZID=America/Chicago:20230303T183000
DTEND;TZID=America/Chicago:20230303T200000
DTSTAMP:20260422T093759
CREATED:20230225T225525Z
LAST-MODIFIED:20230225T225525Z
UID:31864-1677868200-1677873600@www.waukeshacountyfair.com
SUMMARY:Poultry Clinic
DESCRIPTION:Topics: Housing poultry\, update on avian influenza\, fair rule changes\nNOTE: Please do not bring poultry
URL:https://www.waukeshacountyfair.com/event/poultry-clinic-2/
LOCATION:Citizen’s Bank of Mukwonago – Waukesha Office\, 2109 Corporate Drive\, Waukesha\, WI\, 53189\, United States
CATEGORIES:Clinic,Poultry Meeting
END:VEVENT
BEGIN:VEVENT
DTSTART;TZID=America/Chicago:20230328T183000
DTEND;TZID=America/Chicago:20230328T200000
DTSTAMP:20260422T093759
CREATED:20230225T225647Z
LAST-MODIFIED:20230225T225647Z
UID:31865-1680028200-1680033600@www.waukeshacountyfair.com
SUMMARY:Poultry Clinic
DESCRIPTION:NOTE: Please do not bring poultry
URL:https://www.waukeshacountyfair.com/event/poultry-clinic-3/
LOCATION:Citizen’s Bank of Mukwonago – Waukesha Office\, 2109 Corporate Drive\, Waukesha\, WI\, 53189\, United States
CATEGORIES:Clinic,Poultry Meeting
END:VEVENT
END:VCALENDAR