BEGIN:VCALENDAR
VERSION:2.0
PRODID:-//Waukesha County Fair - ECPv6.15.20//NONSGML v1.0//EN
CALSCALE:GREGORIAN
METHOD:PUBLISH
X-WR-CALNAME:Waukesha County Fair
X-ORIGINAL-URL:https://www.waukeshacountyfair.com
X-WR-CALDESC:Events for Waukesha County Fair
REFRESH-INTERVAL;VALUE=DURATION:PT1H
X-Robots-Tag:noindex
X-PUBLISHED-TTL:PT1H
BEGIN:VTIMEZONE
TZID:America/Chicago
BEGIN:DAYLIGHT
TZOFFSETFROM:-0600
TZOFFSETTO:-0500
TZNAME:CDT
DTSTART:20240310T080000
END:DAYLIGHT
BEGIN:STANDARD
TZOFFSETFROM:-0500
TZOFFSETTO:-0600
TZNAME:CST
DTSTART:20241103T070000
END:STANDARD
BEGIN:DAYLIGHT
TZOFFSETFROM:-0600
TZOFFSETTO:-0500
TZNAME:CDT
DTSTART:20250309T080000
END:DAYLIGHT
BEGIN:STANDARD
TZOFFSETFROM:-0500
TZOFFSETTO:-0600
TZNAME:CST
DTSTART:20251102T070000
END:STANDARD
BEGIN:DAYLIGHT
TZOFFSETFROM:-0600
TZOFFSETTO:-0500
TZNAME:CDT
DTSTART:20260308T080000
END:DAYLIGHT
BEGIN:STANDARD
TZOFFSETFROM:-0500
TZOFFSETTO:-0600
TZNAME:CST
DTSTART:20261101T070000
END:STANDARD
END:VTIMEZONE
BEGIN:VEVENT
DTSTART;TZID=America/Chicago:20250713T140000
DTEND;TZID=America/Chicago:20250713T160000
DTSTAMP:20260422T120436
CREATED:20250409T153250Z
LAST-MODIFIED:20250409T153250Z
UID:32914-1752415200-1752422400@www.waukeshacountyfair.com
SUMMARY:Poultry Pen/Stall Assignment Set-Up 2025
DESCRIPTION:
URL:https://www.waukeshacountyfair.com/event/poultry-pen-stall-assignment-set-up-2025/
LOCATION:Waukesha County Expo Grounds\, 1000 Northview Road\, Waukesha\, WI
CATEGORIES:Livestock Meeting,Poultry Meeting
END:VEVENT
BEGIN:VEVENT
DTSTART;TZID=America/Chicago:20250712T120000
DTEND;TZID=America/Chicago:20250712T140000
DTSTAMP:20260422T120436
CREATED:20250409T153013Z
LAST-MODIFIED:20250409T153013Z
UID:32913-1752321600-1752328800@www.waukeshacountyfair.com
SUMMARY:Dairy Pen/Stall Assignment Set-Up 2025
DESCRIPTION:
URL:https://www.waukeshacountyfair.com/event/dairy-pen-stall-assignment-set-up-2025/
LOCATION:Waukesha County Expo Grounds\, 1000 Northview Road\, Waukesha\, WI
CATEGORIES:Dairy,Livestock Meeting
END:VEVENT
BEGIN:VEVENT
DTSTART;TZID=America/Chicago:20250712T120000
DTEND;TZID=America/Chicago:20250712T140000
DTSTAMP:20260422T120436
CREATED:20250409T152825Z
LAST-MODIFIED:20250409T152908Z
UID:32912-1752321600-1752328800@www.waukeshacountyfair.com
SUMMARY:Beef Pen/Stall Assignment Set-Up 2025
DESCRIPTION:
URL:https://www.waukeshacountyfair.com/event/beef-pen-stall-assignment-set-up-2025/
LOCATION:Waukesha County Expo Grounds\, 1000 Northview Road\, Waukesha\, WI
CATEGORIES:beef,Livestock Meeting
END:VEVENT
BEGIN:VEVENT
DTSTART;TZID=America/Chicago:20250709T183000
DTEND;TZID=America/Chicago:20250709T203000
DTSTAMP:20260422T120436
CREATED:20250320T194656Z
LAST-MODIFIED:20250320T194656Z
UID:32878-1752085800-1752093000@www.waukeshacountyfair.com
SUMMARY:All Superintendent Meeting
DESCRIPTION:All Livestock and Competitive Exhibits Superintendents should attend.
URL:https://www.waukeshacountyfair.com/event/all-superintendent-meeting-2/
LOCATION:Waukesha County Courthouse\, 515 Moreland Blvd\, Waukesha\, WI\, 53188\, United States
CATEGORIES:Competitive Exhibits Meeting,Livestock Meeting
END:VEVENT
BEGIN:VEVENT
DTSTART;TZID=America/Chicago:20250628T150000
DTEND;TZID=America/Chicago:20250628T163000
DTSTAMP:20260422T120436
CREATED:20250423T033416Z
LAST-MODIFIED:20250423T033416Z
UID:32969-1751122800-1751128200@www.waukeshacountyfair.com
SUMMARY:Rabbit Education Clinic
DESCRIPTION:Bring a chair\, rabbit(s)\, notebook and pen\, and any questions you have about how to register\, rabbit project\, Showmanship etc. We’ll also do some hopping practice.
URL:https://www.waukeshacountyfair.com/event/rabbit-education-clinic-062825/
LOCATION:Missall Rabbit Barn\, S86W24825 Stonehill Court\, Mukwonago\, WI\, 53149\, United States
CATEGORIES:Clinic,Rabbit
END:VEVENT
BEGIN:VEVENT
DTSTART;TZID=America/Chicago:20250627T180000
DTEND;TZID=America/Chicago:20250627T210000
DTSTAMP:20260422T120436
CREATED:20250531T041338Z
LAST-MODIFIED:20250531T041338Z
UID:33029-1751047200-1751058000@www.waukeshacountyfair.com
SUMMARY:Follow the Fairest to Friday Night Live in Downtown Waukesha
DESCRIPTION:Join Sydney\, the 2025 Fairest of the Fair\, and other Waukesha County Fair representatives at Friday Night Live in Downtown Waukesha.
URL:https://www.waukeshacountyfair.com/event/follow-the-fairest-062725/
LOCATION:Downtown Waukesha
CATEGORIES:Fairest of the Fair
END:VEVENT
BEGIN:VEVENT
DTSTART;TZID=America/Chicago:20250625T170000
DTEND;TZID=America/Chicago:20250625T180000
DTSTAMP:20260422T120436
CREATED:20250617T011252Z
LAST-MODIFIED:20250617T011252Z
UID:33075-1750870800-1750874400@www.waukeshacountyfair.com
SUMMARY:Sheep Education Clinic
DESCRIPTION:
URL:https://www.waukeshacountyfair.com/event/sheep-education-clinic/
LOCATION:Kurth Farms\, N41W28899 Imperial Drive\, Pewaukee\, WI\, 53072
CATEGORIES:Clinic,Sheep Meeting
END:VEVENT
BEGIN:VEVENT
DTSTART;TZID=America/Chicago:20250624T193000
DTEND;TZID=America/Chicago:20250624T200000
DTSTAMP:20260422T120436
CREATED:20250618T065830Z
LAST-MODIFIED:20250618T065830Z
UID:33084-1750793400-1750795200@www.waukeshacountyfair.com
SUMMARY:2026 Fairest of the Fair – Official Crowning
DESCRIPTION:Immediately following the Fairest of the Fair competition\nWaukesha County Fair\, Fairest of the Fair – 2026 Official Crowning\nHeld at the Waukesha County Historical Society & Museum – Grand Ballroom: 101 W. Main Street\, Waukesha
URL:https://www.waukeshacountyfair.com/event/2026-fairest-of-the-fair-official-crowning/
LOCATION:Waukesha County Historical Society & Museum – Grand Ball Room\, 101 W. Main Street\, Waukesha\, WI\, 53186\, United States
CATEGORIES:Fairest of the Fair
END:VEVENT
BEGIN:VEVENT
DTSTART;TZID=America/Chicago:20250624T183000
DTEND;TZID=America/Chicago:20250624T193000
DTSTAMP:20260422T120436
CREATED:20250618T065635Z
LAST-MODIFIED:20250618T065635Z
UID:33083-1750789800-1750793400@www.waukeshacountyfair.com
SUMMARY:2026 Fairest of the Fair – Official Competition
DESCRIPTION:Waukesha County Fair\, Fairest of the Fair – 2026 Official Competition\nHeld at the Waukesha County Historical Society & Museum – Grand Ballroom: 101 West Main Street\, Waukesha\nJudges and Contestants arrive at 5 pm\nPublic and Families arrive at 6:30 pm
URL:https://www.waukeshacountyfair.com/event/2026-fairest-of-the-fair-official-competition/
LOCATION:Waukesha County Historical Society & Museum – Grand Ball Room\, 101 W. Main Street\, Waukesha\, WI\, 53186\, United States
CATEGORIES:Fairest of the Fair
END:VEVENT
BEGIN:VEVENT
DTSTART;TZID=America/Chicago:20250621T150000
DTEND;TZID=America/Chicago:20250621T163000
DTSTAMP:20260422T120436
CREATED:20250423T033140Z
LAST-MODIFIED:20250423T033140Z
UID:32968-1750518000-1750523400@www.waukeshacountyfair.com
SUMMARY:Rabbit Education Clinic
DESCRIPTION:Bring a chair\, rabbit(s)\, notebook and pen\, and any questions you have about how to register\, rabbit project\, Showmanship etc. We’ll also do some hopping practice.
URL:https://www.waukeshacountyfair.com/event/rabbit-education-clinic-062125/
LOCATION:Missall Rabbit Barn\, S86W24825 Stonehill Court\, Mukwonago\, WI\, 53149\, United States
CATEGORIES:Clinic,Rabbit
END:VEVENT
BEGIN:VEVENT
DTSTART;TZID=America/Chicago:20250621T110000
DTEND;TZID=America/Chicago:20250621T120000
DTSTAMP:20260422T120436
CREATED:20250203T234118Z
LAST-MODIFIED:20250203T234118Z
UID:32780-1750503600-1750507200@www.waukeshacountyfair.com
SUMMARY:Family Dog Judging 2025
DESCRIPTION:11:00 Registration\n11:30 Family Dog Judging \nLocated in the South Hall of the Forum Building at the Waukesha County Expo Grounds
URL:https://www.waukeshacountyfair.com/event/family-dog-judging-2025/
LOCATION:Waukesha County Expo Grounds\, 1000 Northview Road\, Waukesha\, WI
CATEGORIES:Judging
END:VEVENT
BEGIN:VEVENT
DTSTART;TZID=America/Chicago:20250621T094500
DTEND;TZID=America/Chicago:20250621T100000
DTSTAMP:20260422T120436
CREATED:20250531T042851Z
LAST-MODIFIED:20250531T042851Z
UID:33032-1750499100-1750500000@www.waukeshacountyfair.com
SUMMARY:Stuffed Animal Showcase
DESCRIPTION:Located in the Forum Building
URL:https://www.waukeshacountyfair.com/event/stuffed-animal-showcase/
LOCATION:Waukesha County Expo Grounds\, 1000 Northview Road\, Waukesha\, WI
CATEGORIES:Judging
END:VEVENT
BEGIN:VEVENT
DTSTART;TZID=America/Chicago:20250621T093000
DTEND;TZID=America/Chicago:20250621T110000
DTSTAMP:20260422T120436
CREATED:20250203T233836Z
LAST-MODIFIED:20250203T233836Z
UID:32779-1750498200-1750503600@www.waukeshacountyfair.com
SUMMARY:Small Animal Judging 2025
DESCRIPTION:9:30 – 10:00 Registration\n10:00 – 11:00 Small Animal Judging \nLocated in the East Hall of the Forum Building at the Waukesha County Expo Grounds
URL:https://www.waukeshacountyfair.com/event/small-animal-judging-2025/
LOCATION:Waukesha County Expo Grounds\, 1000 Northview Road\, Waukesha\, WI
CATEGORIES:Judging
END:VEVENT
BEGIN:VEVENT
DTSTART;TZID=America/Chicago:20250621T083000
DTEND;TZID=America/Chicago:20250621T100000
DTSTAMP:20260422T120436
CREATED:20250203T233614Z
LAST-MODIFIED:20250203T234211Z
UID:32778-1750494600-1750500000@www.waukeshacountyfair.com
SUMMARY:Junior Cat Judging 2025
DESCRIPTION:8:30 – 9:00 Registration\n9:00 – 10:00 Cat Judging \nLocated in the East Hall of the Forum Building at the Waukesha County Expo Grounds
URL:https://www.waukeshacountyfair.com/event/junior-cat-judging-2025/
LOCATION:Waukesha County Expo Grounds\, 1000 Northview Road\, Waukesha\, WI
CATEGORIES:Judging
END:VEVENT
BEGIN:VEVENT
DTSTART;TZID=America/Chicago:20250618T183000
DTEND;TZID=America/Chicago:20250618T193000
DTSTAMP:20260422T120436
CREATED:20250607T031406Z
LAST-MODIFIED:20250607T031406Z
UID:33044-1750271400-1750275000@www.waukeshacountyfair.com
SUMMARY:Swine & Steer Clinic
DESCRIPTION:Open to all Waukesha County Fair youth exhibitors.\nTopic: Steer & Swine > Feed & Nutrition
URL:https://www.waukeshacountyfair.com/event/swine-steer-clinic-2025/
LOCATION:Oakridge Farm\, S40W35961 County Road C\, Dousman\, WI\, 53118\, United States
CATEGORIES:beef,Clinic,Swine
END:VEVENT
BEGIN:VEVENT
DTSTART;TZID=America/Chicago:20250616T190000
DTEND;TZID=America/Chicago:20250616T200000
DTSTAMP:20260422T120436
CREATED:20250616T014555Z
LAST-MODIFIED:20250616T014616Z
UID:33067-1750100400-1750104000@www.waukeshacountyfair.com
SUMMARY:Livestock Superintendent Meeting
DESCRIPTION:
URL:https://www.waukeshacountyfair.com/event/livestock-superintendent-meeting-061425/
LOCATION:Fair Office Conference Room (Old)\, 2417 Silvernail Road\, Pewaukee\, WI 53072
CATEGORIES:Livestock Meeting
END:VEVENT
BEGIN:VEVENT
DTSTART;TZID=America/Chicago:20250616T183000
DTEND;TZID=America/Chicago:20250616T200000
DTSTAMP:20260422T120436
CREATED:20250514T024713Z
LAST-MODIFIED:20250616T014644Z
UID:32992-1750098600-1750104000@www.waukeshacountyfair.com
SUMMARY:Commercial Committee Meeting
DESCRIPTION:
URL:https://www.waukeshacountyfair.com/event/commercial-committee-meeting-10/
LOCATION:Fair Office (Old)\, 2417 Silvernail Rd.\, Pewaukee\, WI\, 53072\, United States
CATEGORIES:Commercial,Meeting
END:VEVENT
BEGIN:VEVENT
DTSTART;VALUE=DATE:20250615
DTEND;VALUE=DATE:20250616
DTSTAMP:20260422T120436
CREATED:20250320T193850Z
LAST-MODIFIED:20250531T040424Z
UID:32877-1749945600-1750031999@www.waukeshacountyfair.com
SUMMARY:Fair Entry Registration Closes 11:59 PM
DESCRIPTION:The Fair Office will be open for questions 10 am – 4pm.
URL:https://www.waukeshacountyfair.com/event/fair-entry-registration-closes-1159-pm-2025/
LOCATION:WI
CATEGORIES:beef,Competitive Exhibits Meeting,Dairy,Goat Meeting,Horse,Judging,Livestock Meeting,Poultry Meeting,Rabbit,Sheep Meeting,Swine
END:VEVENT
BEGIN:VEVENT
DTSTART;TZID=America/Chicago:20250614T090000
DTEND;TZID=America/Chicago:20250614T130000
DTSTAMP:20260422T120436
CREATED:20250531T042524Z
LAST-MODIFIED:20250531T042524Z
UID:33031-1749891600-1749906000@www.waukeshacountyfair.com
SUMMARY:Follow the Fair to the St. Vincent De Paul Anniversary Event
DESCRIPTION:Join Waukesha County Fair representatives at the St. Vincent De Paul Anniversary Event in Pewaukee
URL:https://www.waukeshacountyfair.com/event/follow-the-fair-061425/
LOCATION:St. Vincent de Paul Pewaukee\, 601 Ryan Street\, Pewaukee\, WI\, 53072\, United States
END:VEVENT
BEGIN:VEVENT
DTSTART;TZID=America/Chicago:20250614T090000
DTEND;TZID=America/Chicago:20250614T103000
DTSTAMP:20260422T120436
CREATED:20250611T020148Z
LAST-MODIFIED:20250611T184924Z
UID:33047-1749891600-1749897000@www.waukeshacountyfair.com
SUMMARY:Poultry Education Clinic
DESCRIPTION:Bugenhagen residence (1.5 mile west of the Hwy 164/ Hwy ES Intersection)\nS76W24855 National Ave\nMukwonago\, WI 53149\nJen 262-844-2114\nMatt 414-491-0177 \nTime:\nPoultry 9:00am\nRain or shine\nPlease bring chairs! \nWe will cover bathing and getting your birds ready for show\, parasite control and showmanship.
URL:https://www.waukeshacountyfair.com/event/poultry-education-clinic-061425/
LOCATION:Bugenhagen Farms\, S76 W24855 National Ave\, Mukwonago\, WI\, 53149\, United States
CATEGORIES:Clinic,Poultry Meeting,Sheep Meeting
END:VEVENT
BEGIN:VEVENT
DTSTART;TZID=America/Chicago:20250614T070000
DTEND;TZID=America/Chicago:20250614T150000
DTSTAMP:20260422T120436
CREATED:20250531T050857Z
LAST-MODIFIED:20250531T050857Z
UID:33033-1749884400-1749913200@www.waukeshacountyfair.com
SUMMARY:Sand County Showmanship Showdown - Counts as a Clinic
DESCRIPTION:Sheep Clinic: 8 – 9:30 am\nSheep Showmanship: 10 am\nBeef Clinic: 11:30 am – 1 pm\nBeef Showmanship: 1:30 pm \nFor More Information: sandcountyshow@gmail.com\nJosh Oleson (Beef): (608)547-0430\nTori Babcock (Sheep): (608)572-1402
URL:https://www.waukeshacountyfair.com/event/sand-county-showmanship-showdown-2025/
LOCATION:Adams County Fairgrounds\, Friendship\, WI\, United States
CATEGORIES:beef,Clinic,Sheep Meeting
END:VEVENT
BEGIN:VEVENT
DTSTART;TZID=America/Chicago:20250613T180000
DTEND;TZID=America/Chicago:20250613T210000
DTSTAMP:20260422T120436
CREATED:20250531T041647Z
LAST-MODIFIED:20250531T041647Z
UID:33030-1749837600-1749848400@www.waukeshacountyfair.com
SUMMARY:Follow the Fair to Friday Night Live in Downtown Waukesha
DESCRIPTION:Join Waukesha County Fair representatives at Friday Night Live in Downtown Waukesha.
URL:https://www.waukeshacountyfair.com/event/follow-the-fair-061325/
LOCATION:WI
END:VEVENT
BEGIN:VEVENT
DTSTART;TZID=America/Chicago:20250611T190000
DTEND;TZID=America/Chicago:20250611T200000
DTSTAMP:20260422T120436
CREATED:20250531T032521Z
LAST-MODIFIED:20250531T032521Z
UID:33026-1749668400-1749672000@www.waukeshacountyfair.com
SUMMARY:Dairy Education Clinic
DESCRIPTION:Dairy Clinic: The Countywide Dairy clinic is 6/11 @ 7pm at Cozy Nook Farm: S11W30780 Summit Ave\, Waukesha. Any Waukesha County youth exhibitor may attend and this clinic counts for your auction education card.
URL:https://www.waukeshacountyfair.com/event/dairy-education-clinic-061125/
LOCATION:Cozy Nook Farm\, S11 W30780 Summit Ave\, Waukesha\, WI\, 53188
CATEGORIES:Clinic,Dairy
END:VEVENT
BEGIN:VEVENT
DTSTART;TZID=America/Chicago:20250531T093000
DTEND;TZID=America/Chicago:20250531T120000
DTSTAMP:20260422T120436
CREATED:20250320T193414Z
LAST-MODIFIED:20250531T031845Z
UID:32876-1748683800-1748692800@www.waukeshacountyfair.com
SUMMARY:How to Enter for Fair workshop
DESCRIPTION:Do you need assistance on the registration process? Do you have questions on how to enter your items? This workshop can help answer all your questions! Feel free to stay the entire time or just drop in for a portion.
URL:https://www.waukeshacountyfair.com/event/how-to-enter-for-fair-workshop-2025/
LOCATION:Citizen’s Bank of Mukwonago – Waukesha Office\, 2109 Corporate Drive\, Waukesha\, WI\, 53189\, United States
CATEGORIES:Competitive Exhibits Meeting,Livestock Meeting,Meeting
END:VEVENT
BEGIN:VEVENT
DTSTART;TZID=America/Chicago:20250527T180000
DTEND;TZID=America/Chicago:20250527T203000
DTSTAMP:20260422T120436
CREATED:20250423T031439Z
LAST-MODIFIED:20250423T031439Z
UID:32964-1748368800-1748377800@www.waukeshacountyfair.com
SUMMARY:Poultry Education Clinic
DESCRIPTION:Topic: Showmanship or How to Get Your Bird Ready for Fair
URL:https://www.waukeshacountyfair.com/event/poultry-education-clinic-052725/
LOCATION:Citizen’s Bank of Mukwonago – Waukesha Office\, 2109 Corporate Drive\, Waukesha\, WI\, 53189\, United States
CATEGORIES:Clinic,Poultry Meeting
END:VEVENT
BEGIN:VEVENT
DTSTART;TZID=America/Chicago:20250524T150000
DTEND;TZID=America/Chicago:20250524T163000
DTSTAMP:20260422T120436
CREATED:20250423T032640Z
LAST-MODIFIED:20250423T032942Z
UID:32967-1748098800-1748104200@www.waukeshacountyfair.com
SUMMARY:Rabbit Education Clinic
DESCRIPTION:Bring a chair\, rabbit(s)\, notebook and pen\, and any questions you have about how to register\, rabbit project\, Showmanship etc. We’ll also do some hopping practice.
URL:https://www.waukeshacountyfair.com/event/rabbit-education-clinic-052425/
LOCATION:Missall Rabbit Barn\, S86W24825 Stonehill Court\, Mukwonago\, WI\, 53149\, United States
CATEGORIES:Clinic,Rabbit
END:VEVENT
BEGIN:VEVENT
DTSTART;TZID=America/Chicago:20250521T183000
DTEND;TZID=America/Chicago:20250521T200000
DTSTAMP:20260422T120436
CREATED:20241104T014445Z
LAST-MODIFIED:20241104T014445Z
UID:32746-1747852200-1747857600@www.waukeshacountyfair.com
SUMMARY:Competitive Exhibits meeting
DESCRIPTION:
URL:https://www.waukeshacountyfair.com/event/competitive-exhibits-meeting-052125/
LOCATION:Waukesha State Bank – Downtown\, 151 E. St. Paul Avenue\, Waukesha\, WI\, 53188\, United States
CATEGORIES:Competitive Exhibits Meeting,Meeting
END:VEVENT
BEGIN:VEVENT
DTSTART;TZID=America/Chicago:20250517T150000
DTEND;TZID=America/Chicago:20250517T163000
DTSTAMP:20260422T120436
CREATED:20250423T032338Z
LAST-MODIFIED:20250423T032338Z
UID:32965-1747494000-1747499400@www.waukeshacountyfair.com
SUMMARY:Rabbit Education Clinic
DESCRIPTION:Bring a chair\, rabbit(s)\, notebook and pen\, and any questions you have about how to register\, rabbit project\, Showmanship etc. We’ll also do some hopping practice.
URL:https://www.waukeshacountyfair.com/event/rabbit-education-clinic/
LOCATION:Missall Rabbit Barn\, S86W24825 Stonehill Court\, Mukwonago\, WI\, 53149\, United States
CATEGORIES:Clinic,Rabbit
END:VEVENT
BEGIN:VEVENT
DTSTART;TZID=America/Chicago:20250507T173000
DTEND;TZID=America/Chicago:20250507T191500
DTSTAMP:20260422T120436
CREATED:20250203T232957Z
LAST-MODIFIED:20250203T232957Z
UID:32777-1746639000-1746645300@www.waukeshacountyfair.com
SUMMARY:Fair Exhibitor Q&A for 4-H families
DESCRIPTION:Fair Exhibitor Q&A for 4-H families at the 4-H Project Night Series\nDrop in during either session to answer any questions you may have regarding the Waukesha County Fair
URL:https://www.waukeshacountyfair.com/event/fair-exhibitor-qa-for-4-h-050725/
LOCATION:Waukesha County Expo Grounds\, 1000 Northview Road\, Waukesha\, WI
CATEGORIES:Competitive Exhibits Meeting,Livestock Meeting
END:VEVENT
BEGIN:VEVENT
DTSTART;TZID=America/Chicago:20250505T190000
DTEND;TZID=America/Chicago:20250505T210000
DTSTAMP:20260422T120436
CREATED:20250409T154917Z
LAST-MODIFIED:20250409T154917Z
UID:32921-1746471600-1746478800@www.waukeshacountyfair.com
SUMMARY:Livestock Superintendent Meeting
DESCRIPTION:
URL:https://www.waukeshacountyfair.com/event/livestock-superintendent-meeting-6/
LOCATION:Fair Office Conference Room (Old)\, 2417 Silvernail Road\, Pewaukee\, WI 53072
CATEGORIES:Livestock Meeting
END:VEVENT
END:VCALENDAR