BEGIN:VCALENDAR
VERSION:2.0
PRODID:-//Waukesha County Fair - ECPv6.15.20//NONSGML v1.0//EN
CALSCALE:GREGORIAN
METHOD:PUBLISH
X-WR-CALNAME:Waukesha County Fair
X-ORIGINAL-URL:https://www.waukeshacountyfair.com
X-WR-CALDESC:Events for Waukesha County Fair
REFRESH-INTERVAL;VALUE=DURATION:PT1H
X-Robots-Tag:noindex
X-PUBLISHED-TTL:PT1H
BEGIN:VTIMEZONE
TZID:America/Chicago
BEGIN:DAYLIGHT
TZOFFSETFROM:-0600
TZOFFSETTO:-0500
TZNAME:CDT
DTSTART:20210314T080000
END:DAYLIGHT
BEGIN:STANDARD
TZOFFSETFROM:-0500
TZOFFSETTO:-0600
TZNAME:CST
DTSTART:20211107T070000
END:STANDARD
BEGIN:DAYLIGHT
TZOFFSETFROM:-0600
TZOFFSETTO:-0500
TZNAME:CDT
DTSTART:20220313T080000
END:DAYLIGHT
BEGIN:STANDARD
TZOFFSETFROM:-0500
TZOFFSETTO:-0600
TZNAME:CST
DTSTART:20221106T070000
END:STANDARD
BEGIN:DAYLIGHT
TZOFFSETFROM:-0600
TZOFFSETTO:-0500
TZNAME:CDT
DTSTART:20230312T080000
END:DAYLIGHT
BEGIN:STANDARD
TZOFFSETFROM:-0500
TZOFFSETTO:-0600
TZNAME:CST
DTSTART:20231105T070000
END:STANDARD
END:VTIMEZONE
BEGIN:VEVENT
DTSTART;TZID=America/Chicago:20220625T083000
DTEND;TZID=America/Chicago:20220625T110000
DTSTAMP:20260421T070800
CREATED:20220106T013323Z
LAST-MODIFIED:20220106T013323Z
UID:31361-1656145800-1656154800@www.waukeshacountyfair.com
SUMMARY:2022 Cat & Small Animal Judging
DESCRIPTION:Saturday\, June 25th – @Waukesha County Expo Grounds – Forum Building\, East Hall \no   Cat Show Judging Registration at 8:30am\no   Judging Starts @ 9am\no   Small Animal Show Judging Registration at 9:30am\no   Judging Starts at 10am
URL:https://www.waukeshacountyfair.com/event/2022-cat-small-animal-judging/
LOCATION:Waukesha County Expo Grounds\, 1000 Northview Road\, Waukesha\, WI
CATEGORIES:Competitive Exhibits Meeting,Judging
END:VEVENT
BEGIN:VEVENT
DTSTART;TZID=America/Chicago:20220624T180000
DTEND;TZID=America/Chicago:20220624T210000
DTSTAMP:20260421T070800
CREATED:20220427T005526Z
LAST-MODIFIED:20220427T005526Z
UID:31595-1656093600-1656104400@www.waukeshacountyfair.com
SUMMARY:Follow the Fairest to Friday Night Live
DESCRIPTION:Join Emma\, the 2022 Fairest of the Fair\, and other Waukesha County Fair representatives at Friday Night Live in Downtown Waukesha.
URL:https://www.waukeshacountyfair.com/event/follow-the-fairest-to-friday-night-live-2/
LOCATION:Downtown Waukesha
CATEGORIES:Fairest of the Fair
END:VEVENT
BEGIN:VEVENT
DTSTART;TZID=America/Chicago:20220622T113000
DTEND;TZID=America/Chicago:20220622T123000
DTSTAMP:20260421T070800
CREATED:20220427T042157Z
LAST-MODIFIED:20220427T042157Z
UID:31600-1655897400-1655901000@www.waukeshacountyfair.com
SUMMARY:Follow the Fairest to the Butler Public Library
DESCRIPTION:Join Emma\, the 2022 Fairest of the Fair\, for fun at the Butler Public Library. \nAll ages.
URL:https://www.waukeshacountyfair.com/event/follow-the-fairest-to-the-butler-public-library/
LOCATION:Butler Public Library\, 12808 W Hampton Ave\, Butler\, WI\, 53007\, United States
CATEGORIES:Fairest of the Fair
END:VEVENT
BEGIN:VEVENT
DTSTART;TZID=America/Chicago:20220621T183000
DTEND;TZID=America/Chicago:20220621T200000
DTSTAMP:20260421T070800
CREATED:20220621T032632Z
LAST-MODIFIED:20220621T032632Z
UID:31670-1655836200-1655841600@www.waukeshacountyfair.com
SUMMARY:Follow the Fairest to the Center Oak 4-H Club Meeting
DESCRIPTION:Center Oak is a Waukesha County 4-H Club located in North Lake. For more information about the Center Oak 4-H meeting please contact Diane Cull at dmcull@sbcglobal.net.
URL:https://www.waukeshacountyfair.com/event/follow-the-fairest-to-the-center-oak/
LOCATION:WI
CATEGORIES:Fairest of the Fair
END:VEVENT
BEGIN:VEVENT
DTSTART;TZID=America/Chicago:20220620T103000
DTEND;TZID=America/Chicago:20220620T113000
DTSTAMP:20260421T070800
CREATED:20220427T041920Z
LAST-MODIFIED:20220427T041920Z
UID:31599-1655721000-1655724600@www.waukeshacountyfair.com
SUMMARY:Follow the Fairest to the Brookfield Public Library
DESCRIPTION:Join Emma\, the 2022 Fairest of the Fair\, for fun at the Brookfield Public Library. \nAll ages.
URL:https://www.waukeshacountyfair.com/event/follow-the-fairest-to-the-brookfield-public-library/
LOCATION:Brookfield Public Library\, 1900 N Calhoun Rd\, Brookfield\, WI\, 53005\, United States
CATEGORIES:Fairest of the Fair
END:VEVENT
BEGIN:VEVENT
DTSTART;VALUE=DATE:20220615
DTEND;VALUE=DATE:20220616
DTSTAMP:20260421T070800
CREATED:20220211T013215Z
LAST-MODIFIED:20220211T013215Z
UID:31456-1655251200-1655337599@www.waukeshacountyfair.com
SUMMARY:Fair Entry Registration Closes 11:59 PM
DESCRIPTION:Online Entries Close at 11:59 PM – **No exceptions**\nPlease see the Entry Info page for more information.
URL:https://www.waukeshacountyfair.com/event/fair-entry-registration-closes-1159-pm/
LOCATION:WI
END:VEVENT
BEGIN:VEVENT
DTSTART;VALUE=DATE:20220615
DTEND;VALUE=DATE:20220616
DTSTAMP:20260421T070801
CREATED:20220211T012857Z
LAST-MODIFIED:20220211T012857Z
UID:31455-1655251200-1655337599@www.waukeshacountyfair.com
SUMMARY:YQCA certification deadline
DESCRIPTION:YQCA online testing is required for ALL Livestock Exhibitors who plan on selling an animal or milk at the 2022 Waukesha County Fair Junior Livestock Auction. Testing must be completed by June 15th! More information can be found on the Entry Info Page. Reach out to the Fair Office by phone or email Chrissy Gluege\, Executive Director\, at Chrissy@waukeshacountyfair.com with any questions.
URL:https://www.waukeshacountyfair.com/event/yqca-certification-deadline/
LOCATION:WI
CATEGORIES:beef,Goat Meeting,Poultry Meeting,Rabbit,Sheep Meeting,Swine,YQCA
END:VEVENT
BEGIN:VEVENT
DTSTART;TZID=America/Chicago:20220610T180000
DTEND;TZID=America/Chicago:20220610T210000
DTSTAMP:20260421T070801
CREATED:20220427T004948Z
LAST-MODIFIED:20220427T004948Z
UID:31593-1654884000-1654894800@www.waukeshacountyfair.com
SUMMARY:Follow the Fairest to Friday Night Live
DESCRIPTION:Join Emma\, the 2022 Fairest of the Fair\, and other Waukesha County Fair representatives at Friday Night Live in Downtown Waukesha.
URL:https://www.waukeshacountyfair.com/event/follow-the-fairest-to-friday-night-live/
LOCATION:Downtown Waukesha
CATEGORIES:Fairest of the Fair
END:VEVENT
BEGIN:VEVENT
DTSTART;TZID=America/Chicago:20220606T190000
DTEND;TZID=America/Chicago:20220606T203000
DTSTAMP:20260421T070801
CREATED:20220106T005922Z
LAST-MODIFIED:20220106T005922Z
UID:31354-1654542000-1654547400@www.waukeshacountyfair.com
SUMMARY:Livestock Committee Meeting
DESCRIPTION:
URL:https://www.waukeshacountyfair.com/event/livestock-committee-meeting-14/
LOCATION:Fair Office Conference Room (Old)\, 2417 Silvernail Road\, Pewaukee\, WI 53072
CATEGORIES:Livestock Meeting
END:VEVENT
BEGIN:VEVENT
DTSTART;TZID=America/Chicago:20220531T183000
DTEND;TZID=America/Chicago:20220531T193000
DTSTAMP:20260421T070801
CREATED:20220527T004923Z
LAST-MODIFIED:20220527T004923Z
UID:31643-1654021800-1654025400@www.waukeshacountyfair.com
SUMMARY:Competitive Exhibits Committee Meeting
DESCRIPTION:
URL:https://www.waukeshacountyfair.com/event/competitive-exhibits-committee-meeting-2/
LOCATION:Waukesha State Bank – Downtown\, 151 E. St. Paul Avenue\, Waukesha\, WI\, 53188\, United States
CATEGORIES:Competitive Exhibits Meeting
END:VEVENT
BEGIN:VEVENT
DTSTART;TZID=America/Chicago:20220530T100000
DTEND;TZID=America/Chicago:20220530T120000
DTSTAMP:20260421T070801
CREATED:20220427T003935Z
LAST-MODIFIED:20220427T003935Z
UID:31592-1653904800-1653912000@www.waukeshacountyfair.com
SUMMARY:Follow the Fairest to the Merton Memorial Day Parade
DESCRIPTION:Come see our 2022 Fairest of the Fair\, Emma Vorpagel\, in the Merton Memorial Day Parade. \nLine-up begins at 9:30 a.m. and the parade kicks off at 10:00 a.m. The route starts on the corner of Trowbridge Trail and Main Street and ends at the Merton Community Fire Department.
URL:https://www.waukeshacountyfair.com/event/follow-the-fairest-to-the-merton-memorial-day-parade/
LOCATION:WI
CATEGORIES:Fairest of the Fair
END:VEVENT
BEGIN:VEVENT
DTSTART;TZID=America/Chicago:20220524T183000
DTEND;TZID=America/Chicago:20220524T200000
DTSTAMP:20260421T070801
CREATED:20220226T194755Z
LAST-MODIFIED:20220226T194755Z
UID:31481-1653417000-1653422400@www.waukeshacountyfair.com
SUMMARY:Poultry Meeting - Counts as a Clinic
DESCRIPTION:Note: This clinic is concurrent with a 4-H project meeting but it is open to any Waukesha County Fair poultry exhibitor.
URL:https://www.waukeshacountyfair.com/event/poultry-meeting-counts-as-a-clinic-5/
LOCATION:Waukesha State Bank – Downtown\, 151 E. St. Paul Avenue\, Waukesha\, WI\, 53188\, United States
CATEGORIES:Clinic,Poultry Meeting
END:VEVENT
BEGIN:VEVENT
DTSTART;TZID=America/Chicago:20220523T190000
DTEND;TZID=America/Chicago:20220523T203000
DTSTAMP:20260421T070801
CREATED:20220106T012515Z
LAST-MODIFIED:20220106T012515Z
UID:31359-1653332400-1653337800@www.waukeshacountyfair.com
SUMMARY:Board Meeting
DESCRIPTION:
URL:https://www.waukeshacountyfair.com/event/board-meeting-6/
LOCATION:Fair Office Conference Room (Old)\, 2417 Silvernail Road\, Pewaukee\, WI 53072
CATEGORIES:Board Meeting
END:VEVENT
BEGIN:VEVENT
DTSTART;TZID=America/Chicago:20220519T170000
DTEND;TZID=America/Chicago:20220519T200000
DTSTAMP:20260421T070801
CREATED:20220427T041452Z
LAST-MODIFIED:20220427T041452Z
UID:31597-1652979600-1652990400@www.waukeshacountyfair.com
SUMMARY:Youth Exhibitor Culvers Fundraiser
DESCRIPTION:Fair Youth Exhibitor Fundraiser\nJoin Us & help support our youth exhibitors! Stop on in or through the drive-thru!! Flavor of the Day: Really Reese’s.
URL:https://www.waukeshacountyfair.com/event/youth-exhibitor-culvers-fundraiser-2/
LOCATION:Culvers – Main Street\, Waukesha\, 1650 E. Main Street\, Waukesha\, WI\, 53186
END:VEVENT
BEGIN:VEVENT
DTSTART;TZID=America/Chicago:20220514T083000
DTEND;TZID=America/Chicago:20220514T100000
DTSTAMP:20260421T070801
CREATED:20220422T224810Z
LAST-MODIFIED:20220422T224810Z
UID:31583-1652517000-1652522400@www.waukeshacountyfair.com
SUMMARY:How to Enter for Fair Workshop
DESCRIPTION:
URL:https://www.waukeshacountyfair.com/event/how-to-enter-for-fair-workshop/
LOCATION:Waukesha State Bank – Downtown\, 151 E. St. Paul Avenue\, Waukesha\, WI\, 53188\, United States
CATEGORIES:Competitive Exhibits Meeting,Livestock Meeting
END:VEVENT
BEGIN:VEVENT
DTSTART;TZID=America/Chicago:20220512T190000
DTEND;TZID=America/Chicago:20220512T203000
DTSTAMP:20260421T070801
CREATED:20220102T233235Z
LAST-MODIFIED:20220102T233235Z
UID:31341-1652382000-1652387400@www.waukeshacountyfair.com
SUMMARY:WYLP Biomedical Advancements Zoom - Counts as a Clinic
DESCRIPTION:Animal Sciences Virtual Education Series\nWritten by Bernadette O’Rourke\nA part of the Wisconsin Youth Livestock program \nThis series is offered in connection with the University of Wisconsin Madison Animal & Dairy Sciences Department\, College of Agricultural and Life Sciences\, and Division of Extension. \nThe Wisconsin Youth Livestock Program (WYLP) is excited to offer these LIVE Virtual Zoom educational programs for the spring of 2022. These current topics are for youth and adults alike and occur on the second Thursday of the month from January through May. Each session begins at 7 p.m. CST with a presentation followed by the question-and-answer time. Register for any or all the events to get the connection information by email. \nFor registration and details about each presentation\, go to: https://go.wisc.edu/tnq61h. On this webpage\, you can also find an educational verification form. Complete the form and turn it into your county fair and or livestock committee to verify your participation. These activities can serve as “county educational requirements”. \nThese sessions will provide awareness and knowledge of animal agriculture in these challenge areas listed. They will also give details on careers and how this area connects with your animal project. There will be a case study to further develop discussion skills with a local project leader\, agriculture\, and or science teacher on the discussion topic. Younger youth can learn through a take-home activity they talk about with parents and or project leaders. \nRegister for Sessions \nJanuary 13 – Grand Challenge: Animal Health & Welfare\nFebruary 10 – Grand Challenge: Precision Agriculture\nMarch 10 – Grand Challenge: Food Safety\, Pork Carcass Evaluation\, Fabrication and Cooking with Pork\nApril 14 – Grand Challenge: Land and Water\nMay 12 – Grand Challenge: Biomedical Advancements \nSome of the questions we hope to cover: Why are we concerned? What is the scientific problem? What do we know? What more do we need to learn? How does this apply to my youth animal project? What are the career opportunities? \nPlease have the Educational Verification Form printed before the session begins. You can write down thoughts throughout the session. \nFor more information visit https://go.wisc.edu/tnq61h or contact Bernie O’Rourke\, UW- Madison Animal & Dairy Science Extension Youth Livestock Specialist at (608) 263-4304 or borourke2@wisc.edu.
URL:https://www.waukeshacountyfair.com/event/wylp-biomedical-advancements-zoom-counts-as-a-clinic/
LOCATION:Zoom
CATEGORIES:Clinic,Livestock Meeting
END:VEVENT
BEGIN:VEVENT
DTSTART;TZID=America/Chicago:20220509T190000
DTEND;TZID=America/Chicago:20220509T203000
DTSTAMP:20260421T070801
CREATED:20220106T005648Z
LAST-MODIFIED:20220427T040446Z
UID:31350-1652122800-1652128200@www.waukeshacountyfair.com
SUMMARY:Livestock Committee Meeting
DESCRIPTION:
URL:https://www.waukeshacountyfair.com/event/livestock-committee-meeting-13/
LOCATION:Fair Office Conference Room (Old)\, 2417 Silvernail Road\, Pewaukee\, WI 53072
CATEGORIES:Livestock Meeting
END:VEVENT
BEGIN:VEVENT
DTSTART;TZID=America/Chicago:20220430T070000
DTEND;TZID=America/Chicago:20220430T160000
DTSTAMP:20260421T070801
CREATED:20220212T171709Z
LAST-MODIFIED:20220212T171709Z
UID:31464-1651302000-1651334400@www.waukeshacountyfair.com
SUMMARY:Fur\, Fin\, & Feather Teaching Show - Counts as a Clinic
DESCRIPTION:Saturday\, April 30th – Fur\, Fin\, & Feather: Teaching Show\nBarney Center in Sparta\, WI \n*IN-PERSON\, ALL DAY EVENT* \nShow Bill and Registration info: https://go.wisc.edu/55e321 \nPre-entries need to be sent to or submitted to the Vernon County Extension Office by Friday\, April 22nd by 4:30 p.m. \nNote: You DO NOT need to be in 4-H to take part in this!
URL:https://www.waukeshacountyfair.com/event/fur-fin-feather-teaching-show-counts-as-a-clinic/
LOCATION:Barney Center\, 1000 E. Montgomery St\, Sparta\, WI\, 54656\, United States
CATEGORIES:Clinic,Poultry Meeting,Rabbit
END:VEVENT
BEGIN:VEVENT
DTSTART;VALUE=DATE:20220430
DTEND;VALUE=DATE:20220501
DTSTAMP:20260421T070801
CREATED:20220209T013932Z
LAST-MODIFIED:20220211T011141Z
UID:31447-1651276800-1651363199@www.waukeshacountyfair.com
SUMMARY:Swine & Steer photos due
DESCRIPTION:Swine & Steers MUST HAVE THEIR PHOTOS W/TAGS to the Fair Office by April 30th. \nBeef Entries-\nTags are available through the Fair Office for $4.00 each. TWO (2) photos of the Steers – 1st with a clear\, visible tag in ear/with full headshot and 2nd with the FULL BODY are due to the Fair Office by April 30th. They can be dropped off\, mailed\, or emailed to wcf1842livestock@gmail.com. (see Department 202 – Junior Beef rules for details!) \nPlease contact us at the Fair Office (262-544-5922) or via email Chrissy@waukeshacountyfair.com to arrange tag payment/pick-up before 4/30/2022! \nSwine Entries-\nThere will be no swine weighed-in again for 2022. Tags are available through the Fair Office for $4.00 each. TWO (2) photos of the Swine – 1st with a clear\, visible tag in ear/with headshot and the ear (with any visible notches) and 2nd with the FULL BODY are due to the Fair Office by April 30th. They can be dropped off\, mailed\, or emailed to wcf1842livestock@gmail.com. (see Department 203 – Junior Swine rules for details!) \nPlease contact us at the Fair Office (262-544-5922) or via email Chrissy@waukeshacountyfair.com AFTER FEBRUARY 20TH to arrange tag payment/pick-up before 4/30/2022!
URL:https://www.waukeshacountyfair.com/event/swine-steer-photos-due/
LOCATION:Fair Office (Old)\, 2417 Silvernail Rd.\, Pewaukee\, WI\, 53072\, United States
CATEGORIES:beef,Swine
END:VEVENT
BEGIN:VEVENT
DTSTART;TZID=America/Chicago:20220428T170000
DTEND;TZID=America/Chicago:20220428T200000
DTSTAMP:20260421T070801
CREATED:20220427T041119Z
LAST-MODIFIED:20220427T041119Z
UID:31596-1651165200-1651176000@www.waukeshacountyfair.com
SUMMARY:Youth Exhibitor Culvers Fundraiser
DESCRIPTION:Fair Youth Exhibitor Fundraiser\nJoin Us & help support our youth exhibitors! Stop on in or through the drive-thru!! Flavor of the Day: Crazy for Cookie Dough.
URL:https://www.waukeshacountyfair.com/event/youth-exhibitor-culvers-fundraiser/
LOCATION:Culvers – Main Street\, Waukesha\, 1650 E. Main Street\, Waukesha\, WI\, 53186
END:VEVENT
BEGIN:VEVENT
DTSTART;TZID=America/Chicago:20220425T190000
DTEND;TZID=America/Chicago:20220425T203000
DTSTAMP:20260421T070801
CREATED:20220106T012345Z
LAST-MODIFIED:20220106T012345Z
UID:31358-1650913200-1650918600@www.waukeshacountyfair.com
SUMMARY:Board Meeting
DESCRIPTION:
URL:https://www.waukeshacountyfair.com/event/board-meeting-5/
LOCATION:Fair Office Conference Room (Old)\, 2417 Silvernail Road\, Pewaukee\, WI 53072
CATEGORIES:Board Meeting
END:VEVENT
BEGIN:VEVENT
DTSTART;TZID=America/Chicago:20220423T090000
DTEND;TZID=America/Chicago:20220423T110000
DTSTAMP:20260421T070801
CREATED:20220209T013224Z
LAST-MODIFIED:20220315T004014Z
UID:31446-1650704400-1650711600@www.waukeshacountyfair.com
SUMMARY:Mandatory Sheep & Goat Weigh-In
DESCRIPTION:Saturday\, April 23rd\, 2022\n9-11am \nKurth Farms:\nN41 W28899 Imperial Drive\nPewaukee\, WI 53072 \nSheep-\nThere will be a Mandatory weigh-in on Saturday\, April 23rd at Kurth Farms (N41 W28899 Imperial Drive\, Pewaukee) from 9-11am for any market sheep. Animals will be tagged and photographed for Waukesha County Fair records at this weigh-in. Tags are $4.00 each – cash and check will be accepted on-site. (see Department 204 – Junior Sheep rules for details!) \nGoats-\nThere will be a Mandatory weigh-in on Saturday\, April 23rd at Kurth Farms (N41 W28899 Imperial Drive\, Pewaukee) from 9-11am for any market goats. Animals will be tagged and photographed for Waukesha County Fair records at this weigh-in. Tags are $4.00 each – cash and check will be accepted on-site. (see  Department 205 – Junior Goats rules for details!)
URL:https://www.waukeshacountyfair.com/event/mandatory-sheep-goat-weigh-in-3/
LOCATION:Kurth Farms\, N41W28899 Imperial Drive\, Pewaukee\, WI\, 53072
CATEGORIES:Goat Meeting,Sheep Meeting
END:VEVENT
BEGIN:VEVENT
DTSTART;TZID=America/Chicago:20220419T183000
DTEND;TZID=America/Chicago:20220419T200000
DTSTAMP:20260421T070801
CREATED:20220226T194318Z
LAST-MODIFIED:20220226T194318Z
UID:31480-1650393000-1650398400@www.waukeshacountyfair.com
SUMMARY:Poultry Meeting - Counts as a Clinic
DESCRIPTION:Note: This clinic is concurrent with a 4-H project meeting but it is open to any Waukesha County Fair poultry exhibitor.
URL:https://www.waukeshacountyfair.com/event/poultry-meeting-counts-as-a-clinic-4/
LOCATION:Waukesha State Bank – Downtown\, 151 E. St. Paul Avenue\, Waukesha\, WI\, 53188\, United States
CATEGORIES:Clinic,Poultry Meeting
END:VEVENT
BEGIN:VEVENT
DTSTART;TZID=America/Chicago:20220414T190000
DTEND;TZID=America/Chicago:20220414T203000
DTSTAMP:20260421T070801
CREATED:20220102T233013Z
LAST-MODIFIED:20220102T233013Z
UID:31340-1649962800-1649968200@www.waukeshacountyfair.com
SUMMARY:WYLP Land and Water Zoom - Counts as a Clinic
DESCRIPTION:Animal Sciences Virtual Education Series\nWritten by Bernadette O’Rourke\nA part of the Wisconsin Youth Livestock program \nThis series is offered in connection with the University of Wisconsin Madison Animal & Dairy Sciences Department\, College of Agricultural and Life Sciences\, and Division of Extension. \nThe Wisconsin Youth Livestock Program (WYLP) is excited to offer these LIVE Virtual Zoom educational programs for the spring of 2022. These current topics are for youth and adults alike and occur on the second Thursday of the month from January through May. Each session begins at 7 p.m. CST with a presentation followed by the question-and-answer time. Register for any or all the events to get the connection information by email. \nFor registration and details about each presentation\, go to: https://go.wisc.edu/tnq61h. On this webpage\, you can also find an educational verification form. Complete the form and turn it into your county fair and or livestock committee to verify your participation. These activities can serve as “county educational requirements”. \nThese sessions will provide awareness and knowledge of animal agriculture in these challenge areas listed. They will also give details on careers and how this area connects with your animal project. There will be a case study to further develop discussion skills with a local project leader\, agriculture\, and or science teacher on the discussion topic. Younger youth can learn through a take-home activity they talk about with parents and or project leaders. \nRegister for Sessions \nJanuary 13 – Grand Challenge: Animal Health & Welfare\nFebruary 10 – Grand Challenge: Precision Agriculture\nMarch 10 – Grand Challenge: Food Safety\, Pork Carcass Evaluation\, Fabrication and Cooking with Pork\nApril 14 – Grand Challenge: Land and Water\nMay 12 – Grand Challenge: Biomedical Advancements \nSome of the questions we hope to cover: Why are we concerned? What is the scientific problem? What do we know? What more do we need to learn? How does this apply to my youth animal project? What are the career opportunities? \nPlease have the Educational Verification Form printed before the session begins. You can write down thoughts throughout the session. \nFor more information visit https://go.wisc.edu/tnq61h or contact Bernie O’Rourke\, UW- Madison Animal & Dairy Science Extension Youth Livestock Specialist at (608) 263-4304 or borourke2@wisc.edu.
URL:https://www.waukeshacountyfair.com/event/wylp-land-and-water-zoom-counts-as-a-clinic/
LOCATION:Zoom
CATEGORIES:Clinic,Livestock Meeting
END:VEVENT
BEGIN:VEVENT
DTSTART;TZID=America/Chicago:20220404T190000
DTEND;TZID=America/Chicago:20220404T203000
DTSTAMP:20260421T070801
CREATED:20220106T005336Z
LAST-MODIFIED:20220106T005336Z
UID:31349-1649098800-1649104200@www.waukeshacountyfair.com
SUMMARY:Livestock Committee Meeting
DESCRIPTION:
URL:https://www.waukeshacountyfair.com/event/livestock-committee-meeting-12/
LOCATION:Fair Office Conference Room (Old)\, 2417 Silvernail Road\, Pewaukee\, WI 53072
CATEGORIES:Livestock Meeting
END:VEVENT
BEGIN:VEVENT
DTSTART;TZID=America/Chicago:20220329T183000
DTEND;TZID=America/Chicago:20220329T200000
DTSTAMP:20260421T070801
CREATED:20220226T193745Z
LAST-MODIFIED:20220226T193745Z
UID:31479-1648578600-1648584000@www.waukeshacountyfair.com
SUMMARY:Poultry Meeting - Counts as a Clinic
DESCRIPTION:Note: This clinic is concurrent with a 4-H project meeting but it is open to any Waukesha County Fair poultry exhibitor.
URL:https://www.waukeshacountyfair.com/event/poultry-meeting-counts-as-a-clinic-3/
LOCATION:Waukesha State Bank – Downtown\, 151 E. St. Paul Avenue\, Waukesha\, WI\, 53188\, United States
CATEGORIES:Clinic,Poultry Meeting
END:VEVENT
BEGIN:VEVENT
DTSTART;TZID=America/Chicago:20220328T190000
DTEND;TZID=America/Chicago:20220328T203000
DTSTAMP:20260421T070801
CREATED:20220106T012240Z
LAST-MODIFIED:20220106T012240Z
UID:31357-1648494000-1648499400@www.waukeshacountyfair.com
SUMMARY:Board Meeting
DESCRIPTION:
URL:https://www.waukeshacountyfair.com/event/board-meeting-4/
LOCATION:Fair Office Conference Room (Old)\, 2417 Silvernail Road\, Pewaukee\, WI 53072
CATEGORIES:Board Meeting
END:VEVENT
BEGIN:VEVENT
DTSTART;TZID=America/Chicago:20220321T180000
DTEND;TZID=America/Chicago:20220321T193000
DTSTAMP:20260421T070801
CREATED:20220310T204356Z
LAST-MODIFIED:20220310T204356Z
UID:31498-1647885600-1647891000@www.waukeshacountyfair.com
SUMMARY:Side Stage Committee Meeting
DESCRIPTION:The Side Stage Committee Meeting will be held in the Game Room of Sunset Bowl.
URL:https://www.waukeshacountyfair.com/event/side-stage-committee-meeting/
LOCATION:Sunset Bowl\, 333 W Sunset Drive\, Waukesha\, WI\, 53189\, United States
CATEGORIES:Meeting
END:VEVENT
BEGIN:VEVENT
DTSTART;TZID=America/Chicago:20220316T183000
DTEND;TZID=America/Chicago:20220316T203000
DTSTAMP:20260421T070801
CREATED:20220102T234130Z
LAST-MODIFIED:20220102T234301Z
UID:31344-1647455400-1647462600@www.waukeshacountyfair.com
SUMMARY:Competitive Exhibits Meeting
DESCRIPTION:
URL:https://www.waukeshacountyfair.com/event/competitive-exhibits-meeting-6/
LOCATION:Waukesha State Bank – Downtown\, 151 E. St. Paul Avenue\, Waukesha\, WI\, 53188\, United States
CATEGORIES:Competitive Exhibits Meeting
END:VEVENT
BEGIN:VEVENT
DTSTART;TZID=America/Chicago:20220315T190000
DTEND;TZID=America/Chicago:20220315T200000
DTSTAMP:20260421T070801
CREATED:20220212T170505Z
LAST-MODIFIED:20220212T170505Z
UID:31463-1647370800-1647374400@www.waukeshacountyfair.com
SUMMARY:Poultry Showmanship Virtual Session - Counts as a Clinic
DESCRIPTION:This virtual program will help introduce youth to showmanship tips and tricks and help prepare them for what a poultry show looks like and how it is run. This session will be held on March 15th at 7pm via Zoom. \nRegister : http://wi.4honline.com \nNote: You DO NOT need to be in 4-H to take part in this!
URL:https://www.waukeshacountyfair.com/event/poultry-showmanship-virtual-session-counts-as-a-clinic/
LOCATION:Zoom
CATEGORIES:Clinic,Poultry Meeting
END:VEVENT
END:VCALENDAR