BEGIN:VCALENDAR
VERSION:2.0
PRODID:-//Waukesha County Fair - ECPv6.15.20//NONSGML v1.0//EN
CALSCALE:GREGORIAN
METHOD:PUBLISH
X-ORIGINAL-URL:https://www.waukeshacountyfair.com
X-WR-CALDESC:Events for Waukesha County Fair
REFRESH-INTERVAL;VALUE=DURATION:PT1H
X-Robots-Tag:noindex
X-PUBLISHED-TTL:PT1H
BEGIN:VTIMEZONE
TZID:America/Chicago
BEGIN:DAYLIGHT
TZOFFSETFROM:-0600
TZOFFSETTO:-0500
TZNAME:CDT
DTSTART:20250309T080000
END:DAYLIGHT
BEGIN:STANDARD
TZOFFSETFROM:-0500
TZOFFSETTO:-0600
TZNAME:CST
DTSTART:20251102T070000
END:STANDARD
BEGIN:DAYLIGHT
TZOFFSETFROM:-0600
TZOFFSETTO:-0500
TZNAME:CDT
DTSTART:20260308T080000
END:DAYLIGHT
BEGIN:STANDARD
TZOFFSETFROM:-0500
TZOFFSETTO:-0600
TZNAME:CST
DTSTART:20261101T070000
END:STANDARD
BEGIN:DAYLIGHT
TZOFFSETFROM:-0600
TZOFFSETTO:-0500
TZNAME:CDT
DTSTART:20270314T080000
END:DAYLIGHT
BEGIN:STANDARD
TZOFFSETFROM:-0500
TZOFFSETTO:-0600
TZNAME:CST
DTSTART:20271107T070000
END:STANDARD
END:VTIMEZONE
BEGIN:VEVENT
DTSTART;TZID=America/Chicago:20260302T190000
DTEND;TZID=America/Chicago:20260302T220000
DTSTAMP:20260420T073005
CREATED:20260302T234515Z
LAST-MODIFIED:20260302T234515Z
UID:33325-1772478000-1772488800@www.waukeshacountyfair.com
SUMMARY:Livestock Superintendent Meeting
DESCRIPTION:
URL:https://www.waukeshacountyfair.com/event/livestock-superintendent-meeting-030226/
LOCATION:Fair Office\, 506 Lincoln Ave\, Waukesha\, 53186\, United States
CATEGORIES:Livestock Meeting
END:VEVENT
BEGIN:VEVENT
DTSTART;TZID=America/Chicago:20260311T170000
DTEND;TZID=America/Chicago:20260311T200000
DTSTAMP:20260420T073005
CREATED:20260120T020045Z
LAST-MODIFIED:20260120T020045Z
UID:33247-1773248400-1773259200@www.waukeshacountyfair.com
SUMMARY:Culver’s Donate & Dine Night
DESCRIPTION:Culver’s Donate & Dine Night\nWhen: Wednesday\, March 11\nTime: 5:00 PM – 8:00 PM.\nWhere: Main Street location (1650 Main St.)\nHow: Simply order dinner or a treat! Drive-thru and carry-out orders count toward our total as well.
URL:https://www.waukeshacountyfair.com/event/culvers-donate-dine-night-031126/
LOCATION:Culvers – Main Street\, Waukesha\, 1650 E. Main Street\, Waukesha\, WI\, 53186
END:VEVENT
BEGIN:VEVENT
DTSTART;TZID=America/Chicago:20260314T090000
DTEND;TZID=America/Chicago:20260314T100000
DTSTAMP:20260420T073005
CREATED:20260210T150510Z
LAST-MODIFIED:20260220T200342Z
UID:33281-1773478800-1773482400@www.waukeshacountyfair.com
SUMMARY:Beef Weigh-In
DESCRIPTION:Beef Weigh-In – Saturday\, March 14th\nTime: 9-10 am*\nLocation: Schuett’s Farm – The end of Ehr Drive and County Road I\nMukwonago\, WI (One mile east of Hwy 83) \nFarm Location Link: https://goo.gl/maps/QxD4QH44WFz \n**We are looking to get a count of who will be joining us. We are asking you to please fill out this quick sign up so we have an idea of number of attendees: 2026 Beef Weigh-In Registration \nAnimals will be tagged & photographed on-site at the time of the weigh-in. Tags are $4.
URL:https://www.waukeshacountyfair.com/event/beef-weigh-in-2026/
LOCATION:Aaron Schuett’s Farm\, Ehr Drive & County Rd. I\, Mukwonago\, WI\, 53149\, United States
CATEGORIES:beef
END:VEVENT
BEGIN:VEVENT
DTSTART;TZID=America/Chicago:20260314T133000
DTEND;TZID=America/Chicago:20260314T150000
DTSTAMP:20260420T073005
CREATED:20260314T195105Z
LAST-MODIFIED:20260314T195105Z
UID:33336-1773495000-1773500400@www.waukeshacountyfair.com
SUMMARY:Rabbit Educational Clinic
DESCRIPTION:
URL:https://www.waukeshacountyfair.com/event/rabbit-educational-clinic-031426/
LOCATION:Missall Rabbit Barn\, S86W24825 Stonehill Court\, Mukwonago\, WI\, 53149\, United States
CATEGORIES:Clinic,Rabbit
END:VEVENT
BEGIN:VEVENT
DTSTART;TZID=America/Chicago:20260324T183000
DTEND;TZID=America/Chicago:20260324T200000
DTSTAMP:20260420T073005
CREATED:20260128T030126Z
LAST-MODIFIED:20260128T030126Z
UID:33252-1774377000-1774382400@www.waukeshacountyfair.com
SUMMARY:Poultry Education Clinic
DESCRIPTION:Any questions can be directed to Jenny & Matt Bugenhagen – mjlrkb@yahoo.com
URL:https://www.waukeshacountyfair.com/event/poultry-education-clinic-032426/
LOCATION:Citizen’s Bank of Mukwonago – Waukesha Office\, 2109 Corporate Drive\, Waukesha\, WI\, 53189\, United States
CATEGORIES:Clinic,Poultry Meeting
END:VEVENT
END:VCALENDAR